BEGIN:VCALENDAR
VERSION:2.0
PRODID:-//Füreinander Hier e.V. - ECPv6.15.20//NONSGML v1.0//EN
CALSCALE:GREGORIAN
METHOD:PUBLISH
X-ORIGINAL-URL:https://fuereinanderhier.de
X-WR-CALDESC:Veranstaltungen für Füreinander Hier e.V.
REFRESH-INTERVAL;VALUE=DURATION:PT1H
X-Robots-Tag:noindex
X-PUBLISHED-TTL:PT1H
BEGIN:VTIMEZONE
TZID:Europe/Berlin
BEGIN:DAYLIGHT
TZOFFSETFROM:+0100
TZOFFSETTO:+0200
TZNAME:CEST
DTSTART:20230326T010000
END:DAYLIGHT
BEGIN:STANDARD
TZOFFSETFROM:+0200
TZOFFSETTO:+0100
TZNAME:CET
DTSTART:20231029T010000
END:STANDARD
BEGIN:DAYLIGHT
TZOFFSETFROM:+0100
TZOFFSETTO:+0200
TZNAME:CEST
DTSTART:20240331T010000
END:DAYLIGHT
BEGIN:STANDARD
TZOFFSETFROM:+0200
TZOFFSETTO:+0100
TZNAME:CET
DTSTART:20241027T010000
END:STANDARD
BEGIN:DAYLIGHT
TZOFFSETFROM:+0100
TZOFFSETTO:+0200
TZNAME:CEST
DTSTART:20250330T010000
END:DAYLIGHT
BEGIN:STANDARD
TZOFFSETFROM:+0200
TZOFFSETTO:+0100
TZNAME:CET
DTSTART:20251026T010000
END:STANDARD
END:VTIMEZONE
BEGIN:VEVENT
DTSTART;TZID=Europe/Berlin:20241202T150000
DTEND;TZID=Europe/Berlin:20241202T200000
DTSTAMP:20260423T021255
CREATED:20241127T111924Z
LAST-MODIFIED:20241130T101934Z
UID:256-1733151600-1733169600@fuereinanderhier.de
SUMMARY:Weihnachts Kochkurs
DESCRIPTION:Am kommenden Montag\, den 02.12.2024 findet der erste Weihnachts – Kochkurs mit Küchenmeister Josef Fehrenbach im Dorfplatz statt. \n\nWeihnachtsmenü – 4 Gänge incl. Wein oder einer alkoholfreien Alternative\nDie Karte: \nVorspeise: Kartoffel – Löwenzahn-Salat mit gebackenem Seidentofu und Apfel-/Senfsauce \nSuppe: Zweierlei Rote Beete Suppe mit Topinambur – Chips \nHauptgang: Osso Buco vom Vorderwälderrind vom Schweighof\noder Grünkohlbraten vegan mit Rosenkohlblättern und Kartoffel-Sellerie-Püree \nDessert: Geeister Christstollen mit Apfelkompott vegan \n  \nAb 18 Uhr kann eine Begleitperson der Teilnehmer zum Essen dazu kommen. \nAnmeldung und Infos unter: joseffehrenbach66@gmail.com
URL:https://fuereinanderhier.de/termin/weihnachts-kochkurs/
LOCATION:Dorfplatz\, Am Birkenrain 26b\, St. Peter\, Baden-Württemberg\, 79271\, Germany
CATEGORIES:Kochkurs
ORGANIZER;CN="F%C3%BCreinander Hier e.V.":MAILTO:info@fuereinanderhier.de
END:VEVENT
BEGIN:VEVENT
DTSTART;TZID=Europe/Berlin:20241204T180000
DTEND;TZID=Europe/Berlin:20241204T200000
DTSTAMP:20260423T021255
CREATED:20241119T192527Z
LAST-MODIFIED:20241119T192614Z
UID:240-1733335200-1733342400@fuereinanderhier.de
SUMMARY:Schutz gegen Digitale Überwachung
DESCRIPTION:Ein kompakter Workshop zu den wichtigsten Aspekten der digitalen Sicherheit.\nMittwochs 26.11. bis 18.12. 2024\n18 – 20 Uhr im Dorfplatz\, Am Birkenrain 26b\, 79271 St. Peter\nTeilnehmerzahl: min. 5 bis max. 14\nAuf Spendenbasis\nBitte frühzeitig anmelden über christoph@fuereinanderhier.de \nInhalte:\n• Wie und wo findet Überwachung statt?\n• Welche Entwicklung ist zu beobachten?\n• Was sind mögliche schädliche Auswirkungen auf uns einzelne und die Gesellschaft als Ganzes?\n• Mit welchem Verhalten kann ich mich schützen?\n• Welche technischen Maßnahmen schützen mich? \n \nFlyer_Workshop_Digitale_Ueberwachung \nChristoph Boldt\, Freiberuflicher Dozent\, IT-Dienstleister und Webdesigner – www.conexio-webdesign.de
URL:https://fuereinanderhier.de/termin/schutz-gegen-digitale-ueberwachung-2/
LOCATION:Dorfplatz\, Am Birkenrain 26b\, St. Peter\, Baden-Württemberg\, 79271\, Germany
CATEGORIES:Workshop
ORGANIZER;CN="F%C3%BCreinander Hier e.V.":MAILTO:info@fuereinanderhier.de
END:VEVENT
BEGIN:VEVENT
DTSTART;TZID=Europe/Berlin:20241206T150000
DTEND;TZID=Europe/Berlin:20241206T200000
DTSTAMP:20260423T021255
CREATED:20241130T094136Z
LAST-MODIFIED:20241130T102142Z
UID:323-1733497200-1733515200@fuereinanderhier.de
SUMMARY:Kochkurs Bio Huhn
DESCRIPTION:Thema: Bio Ei und Bio Huhn aus St. Peter 4 Gänge inkl. Wein \nInfo und Anmeldung über Küchenmeister Josef Fehrenbach joseffehrenbach66@gmail.com
URL:https://fuereinanderhier.de/termin/kochkurs/
LOCATION:Dorfplatz\, Am Birkenrain 26b\, St. Peter\, Baden-Württemberg\, 79271\, Germany
ORGANIZER;CN="F%C3%BCreinander Hier e.V.":MAILTO:info@fuereinanderhier.de
END:VEVENT
BEGIN:VEVENT
DTSTART;TZID=Europe/Berlin:20241207T090000
DTEND;TZID=Europe/Berlin:20241207T140000
DTSTAMP:20260423T021255
CREATED:20241128T031910Z
LAST-MODIFIED:20241130T101839Z
UID:274-1733562000-1733580000@fuereinanderhier.de
SUMMARY:Kochkurs Silvestermenü
DESCRIPTION:In diesem Kochkurs wird ein Silvestermenü gekocht.\n \nEs gibt: \n\nSalat von wilden und zahmen Kräutern mit Quitten-/Senfsauce\nVegane Gulasch-Suppe\nNudelsalat mit Saftan und Granatapfel\nRoulade vom Bio Rind vom Schweighof mit Birnen-Rotkohl und Topinambur – Pürree\nGebackener Ziegenkäse mit Traubenchutney\nVeganer Schokomousse mit Waldpilzen und Kürbiskompott\n\nAnmeldungen und weitere Informationen bei Küchenmeister Josef Fehrenbach joseffehrenbach66@gmail.com \nNach dem Kurs kann pro Teilnehmer immer noch ein Gast zum Essen dazukommen.
URL:https://fuereinanderhier.de/termin/kochkurs-silvestermenue/
LOCATION:Dorfplatz\, Am Birkenrain 26b\, St. Peter\, Baden-Württemberg\, 79271\, Germany
ORGANIZER;CN="F%C3%BCreinander Hier e.V.":MAILTO:info@fuereinanderhier.de
END:VEVENT
BEGIN:VEVENT
DTSTART;TZID=Europe/Berlin:20241208T110000
DTEND;TZID=Europe/Berlin:20241208T180000
DTSTAMP:20260423T021255
CREATED:20241130T031825Z
LAST-MODIFIED:20241204T143310Z
UID:279-1733655600-1733680800@fuereinanderhier.de
SUMMARY:Fällt leider aus - Weihnachts Flohmarkt
DESCRIPTION:Fällt leider aus – Wir laden herzlich ein zum vorweihnachtlichen Flohmarkt\nPfarrheim\, St. Peter am Sonntag\, 8. Dezember 11 bis 18 Uhr \nChristbaumschmuck\, edel oder rustikal\, Adventsdekoration\, weihnachtliche Schätze und\nvieles mehr freuen sich auf strahlende Augen und ein neues Zuhause! Alle sind herzlich\nwillkommen! Wer möchte noch einen Tisch haben? Bitte bei uns melden. \n \nEinladungsflyer in DinA4 Hochformat hier zum Download.
URL:https://fuereinanderhier.de/termin/weihnachts-flohmarkt/
LOCATION:Pfarrheim Peter und Paul\, St. Peter\, Schulweg 3\, St. Peter\, Baden Württemberg\, 79271\, Germany
CATEGORIES:Ereignis
ORGANIZER;CN="F%C3%BCreinander Hier e.V.":MAILTO:info@fuereinanderhier.de
END:VEVENT
BEGIN:VEVENT
DTSTART;TZID=Europe/Berlin:20241211T180000
DTEND;TZID=Europe/Berlin:20241211T200000
DTSTAMP:20260423T021255
CREATED:20241119T192716Z
LAST-MODIFIED:20241211T060627Z
UID:243-1733940000-1733947200@fuereinanderhier.de
SUMMARY:Fällt aus - Schutz gegen Digitale Überwachung
DESCRIPTION:Fällt wegen zu geringer Anmeldungen leider aus.\nEin kompakter Workshop zu den wichtigsten Aspekten der digitalen Sicherheit.\nMittwochs 26.11. bis 18.12. 2024\n18 – 20 Uhr im Dorfplatz\, Am Birkenrain 26b\, 79271 St. Peter\nTeilnehmerzahl: min. 5 bis max. 14\nAuf Spendenbasis\nBitte frühzeitig anmelden über christoph@fuereinanderhier.de \nInhalte:\n• Wie und wo findet Überwachung statt?\n• Welche Entwicklung ist zu beobachten?\n• Was sind mögliche schädliche Auswirkungen auf uns einzelne und die Gesellschaft als Ganzes?\n• Mit welchem Verhalten kann ich mich schützen?\n• Welche technischen Maßnahmen schützen mich? \n \nFlyer_Workshop_Digitale_Ueberwachung \nChristoph Boldt\, Freiberuflicher Dozent\, IT-Dienstleister und Webdesigner – www.conexio-webdesign.de
URL:https://fuereinanderhier.de/termin/schutz-gegen-digitale-ueberwachung-3/
LOCATION:Dorfplatz\, Am Birkenrain 26b\, St. Peter\, Baden-Württemberg\, 79271\, Germany
CATEGORIES:Workshop
ORGANIZER;CN="F%C3%BCreinander Hier e.V.":MAILTO:info@fuereinanderhier.de
END:VEVENT
BEGIN:VEVENT
DTSTART;TZID=Europe/Berlin:20241218T180000
DTEND;TZID=Europe/Berlin:20241218T200000
DTSTAMP:20260423T021255
CREATED:20241119T192813Z
LAST-MODIFIED:20241216T115531Z
UID:245-1734544800-1734552000@fuereinanderhier.de
SUMMARY:Fällt aus - Schutz gegen Digitale Überwachung
DESCRIPTION:Fällt mangels Anmeldungen leider aus\nEin kompakter Workshop zu den wichtigsten Aspekten der digitalen Sicherheit.\nMittwochs 26.11. bis 18.12. 2024\n18 – 20 Uhr im Dorfplatz\, Am Birkenrain 26b\, 79271 St. Peter\nTeilnehmerzahl: min. 5 bis max. 14\nAuf Spendenbasis\nBitte frühzeitig anmelden über christoph@fuereinanderhier.de \nInhalte:\n• Wie und wo findet Überwachung statt?\n• Welche Entwicklung ist zu beobachten?\n• Was sind mögliche schädliche Auswirkungen auf uns einzelne und die Gesellschaft als Ganzes?\n• Mit welchem Verhalten kann ich mich schützen?\n• Welche technischen Maßnahmen schützen mich? \n \nFlyer_Workshop_Digitale_Ueberwachung \nChristoph Boldt\, Freiberuflicher Dozent\, IT-Dienstleister und Webdesigner – www.conexio-webdesign.de
URL:https://fuereinanderhier.de/termin/schutz-gegen-digitale-ueberwachung-4/
LOCATION:Dorfplatz\, Am Birkenrain 26b\, St. Peter\, Baden-Württemberg\, 79271\, Germany
CATEGORIES:Workshop
ORGANIZER;CN="F%C3%BCreinander Hier e.V.":MAILTO:info@fuereinanderhier.de
END:VEVENT
END:VCALENDAR