BEGIN:VCALENDAR
VERSION:2.0
PRODID:-//Füreinander Hier e.V. - ECPv6.15.20//NONSGML v1.0//EN
CALSCALE:GREGORIAN
METHOD:PUBLISH
X-WR-CALNAME:Füreinander Hier e.V.
X-ORIGINAL-URL:https://fuereinanderhier.de
X-WR-CALDESC:Veranstaltungen für Füreinander Hier e.V.
REFRESH-INTERVAL;VALUE=DURATION:PT1H
X-Robots-Tag:noindex
X-PUBLISHED-TTL:PT1H
BEGIN:VTIMEZONE
TZID:Europe/Berlin
BEGIN:DAYLIGHT
TZOFFSETFROM:+0100
TZOFFSETTO:+0200
TZNAME:CEST
DTSTART:20240331T010000
END:DAYLIGHT
BEGIN:STANDARD
TZOFFSETFROM:+0200
TZOFFSETTO:+0100
TZNAME:CET
DTSTART:20241027T010000
END:STANDARD
BEGIN:DAYLIGHT
TZOFFSETFROM:+0100
TZOFFSETTO:+0200
TZNAME:CEST
DTSTART:20250330T010000
END:DAYLIGHT
BEGIN:STANDARD
TZOFFSETFROM:+0200
TZOFFSETTO:+0100
TZNAME:CET
DTSTART:20251026T010000
END:STANDARD
BEGIN:DAYLIGHT
TZOFFSETFROM:+0100
TZOFFSETTO:+0200
TZNAME:CEST
DTSTART:20260329T010000
END:DAYLIGHT
BEGIN:STANDARD
TZOFFSETFROM:+0200
TZOFFSETTO:+0100
TZNAME:CET
DTSTART:20261025T010000
END:STANDARD
END:VTIMEZONE
BEGIN:VEVENT
DTSTART;TZID=Europe/Berlin:20250103T190000
DTEND;TZID=Europe/Berlin:20250103T210000
DTSTAMP:20260423T003508
CREATED:20241217T150302Z
LAST-MODIFIED:20241231T131900Z
UID:417-1735930800-1735938000@fuereinanderhier.de
SUMMARY:Fällt aus - Vortrag Spirituelle Reise nach Südindien - Auroville
DESCRIPTION:Fällt mangels Anmeldungen leider aus\nVortrag\nDer spirituelle Reiseleiter Rolf Brokmeier hat 20 Jahre in Auroville gelebt und gearbeitet.\nErlebe in diesem Vortrag eines der größten spirituellen Zentren der Welt\, Auroville.\nEin Ort der Wissenschaft\, der Weisheit und des spirituell gelebten Alltags.\nSchauen Sie sich gerne die Webseite von Auroville an: www.auroville.org\nEine kleine Gruppe fliegt mit Rolf vom 15.01.2025 – 15.02.2025 wieder nach Auroville.\nIch freue mich auf eine Begegnung mit Ihnen / Euch. \nAnmeldungen über 07661 9885470\nlebensglueck7@gmail.com \nNamaste Rolf
URL:https://fuereinanderhier.de/termin/spirituelle-reise-nach-suedindien-auroville/
LOCATION:Dorfplatz\, Am Birkenrain 26b\, St. Peter\, Baden-Württemberg\, 79271\, Germany
ATTACH;FMTTYPE=image/jpeg:https://fuereinanderhier.de/wp-content/uploads/auroville.jpg
END:VEVENT
BEGIN:VEVENT
DTSTART;TZID=Europe/Berlin:20250104T090000
DTEND;TZID=Europe/Berlin:20250104T140000
DTSTAMP:20260423T003508
CREATED:20241130T093355Z
LAST-MODIFIED:20241130T100008Z
UID:316-1735981200-1735999200@fuereinanderhier.de
SUMMARY:Kochkurs Wintergemüse
DESCRIPTION:Thema: Wintergemüse Vegetarisch und Vegan – 4 Gänge inkl. Wein\nEs ist möglich pro Teilnehmer einen Gast mitzubringen. \nInfo und Anmeldung über Küchenmeister Josef Fehrenbach joseffehrenbach66@gmail.com
URL:https://fuereinanderhier.de/termin/kochkurs-wintergemuese/
LOCATION:Dorfplatz\, Am Birkenrain 26b\, St. Peter\, Baden-Württemberg\, 79271\, Germany
CATEGORIES:Kochkurs
ORGANIZER;CN="F%C3%BCreinander Hier e.V.":MAILTO:info@fuereinanderhier.de
END:VEVENT
BEGIN:VEVENT
DTSTART;TZID=Europe/Berlin:20250104T140000
DTEND;TZID=Europe/Berlin:20250104T160000
DTSTAMP:20260423T003508
CREATED:20241227T180334Z
LAST-MODIFIED:20241227T182112Z
UID:428-1735999200-1736006400@fuereinanderhier.de
SUMMARY:Friedenslauf in Freiburg am Samstag\, 4. Januar 2025
DESCRIPTION:Liebe Freunde\, ❤️-liche Einladung zum Friedenslauf\, \nzum AUFZUG durch die Innenstadt in Freiburg am Samstag\, dem 4. Januar 2025 ab 14 Uhr. \nWIR GEMEINSAM für ein besseres Leben in Deutschland \n✔️ Keinen Euro für Kriege\n✔️ Frieden – Diplomaten statt Soldaten\n✔️ Politik wieder für das eigene Volk\n✔️ Für Bargelderhalt\n✔️ Echte Gesundheitsvorsorge statt WHO-Zwangsmaßnahmen\n✔️ Corona-Aufarbeitung\n✔️ Freiheit für Reiner Füllmich \n♦️ Start: Konrad Adenauer Platz ♦️\nAm Konzerthaus gegenüber vom Hbf. Freiburg\n♦️♦️♦️ 14.00 – 16.00 Uhr ♦️♦️♦️ \n Kommt zahlreich und bringt gute Laune\, Plakate und Freunde mit. \n🕊‼️Gemeinschaft stärken ‼️🕊 \n„WIR GEMEINSAM“:\n– FreiSeinFreiburg\n– FreieFriedensaktivistenFreiburg\n– Stauf-Freiburg \nWir sind parteiunabhängige Bürgerinitiativen für Frieden\, Freiheit\, Menschlichkeit und Vernunft. \nÜber die Kommentare können auch MFG organisiert werden
URL:https://fuereinanderhier.de/termin/friedenslauf-in-freiburg-am-samstag-4-januar-2025/
LOCATION:Konrad Adenauer Platz\, Konrad Adenauer Platz\, Baden-Württemberg\, 79098\, Germany
CATEGORIES:Demo
END:VEVENT
BEGIN:VEVENT
DTSTART;TZID=Europe/Berlin:20250106T150000
DTEND;TZID=Europe/Berlin:20250106T200000
DTSTAMP:20260423T003508
CREATED:20241130T095926Z
LAST-MODIFIED:20241130T101751Z
UID:336-1736175600-1736193600@fuereinanderhier.de
SUMMARY:Kochkurs Bio Huhn
DESCRIPTION:Thema: Bio Ei und Bio Huhn aus St. Peter 4 Gänge inkl. Wein. \nAnmeldungen und weitere Informationen bei Küchenmeister Josef Fehrenbach joseffehrenbach66@gmail.com
URL:https://fuereinanderhier.de/termin/kochkurs-2/
LOCATION:Dorfplatz\, Am Birkenrain 26b\, St. Peter\, Baden-Württemberg\, 79271\, Germany
CATEGORIES:Kochkurs
ORGANIZER;CN="F%C3%BCreinander Hier e.V.":MAILTO:info@fuereinanderhier.de
END:VEVENT
BEGIN:VEVENT
DTSTART;TZID=Europe/Berlin:20250125T150000
DTEND;TZID=Europe/Berlin:20250125T170000
DTSTAMP:20260423T003508
CREATED:20250120T155320Z
LAST-MODIFIED:20250120T155320Z
UID:454-1737817200-1737824400@fuereinanderhier.de
SUMMARY:Die 5 biologischen Naturgesetze
DESCRIPTION:Mit Frau Dr. Isabella Pfaff lernen wir das Zusammenwirken von Körper\, Geist und Seele\, das im Volksmund als Krankheit bezeichnet wird.\nKrankheit hat zeitlich ablaufende Gesetzmäßigkeiten und in sich den Schlüssel zu Gesundung.\nIhr Thema an diesem Nachmittag ist der Schlaganfall bei Mensch und Tier.
URL:https://fuereinanderhier.de/termin/die-5-biologischen-naturgesetze/
LOCATION:Dorfplatz\, Am Birkenrain 26b\, St. Peter\, Baden-Württemberg\, 79271\, Germany
CATEGORIES:Vortrag
ORGANIZER;CN="F%C3%BCreinander Hier e.V.":MAILTO:info@fuereinanderhier.de
END:VEVENT
END:VCALENDAR