BEGIN:VCALENDAR
VERSION:2.0
PRODID:-//Füreinander Hier e.V. - ECPv6.15.20//NONSGML v1.0//EN
CALSCALE:GREGORIAN
METHOD:PUBLISH
X-ORIGINAL-URL:https://fuereinanderhier.de
X-WR-CALDESC:Veranstaltungen für Füreinander Hier e.V.
REFRESH-INTERVAL;VALUE=DURATION:PT1H
X-Robots-Tag:noindex
X-PUBLISHED-TTL:PT1H
BEGIN:VTIMEZONE
TZID:Europe/Berlin
BEGIN:DAYLIGHT
TZOFFSETFROM:+0100
TZOFFSETTO:+0200
TZNAME:CEST
DTSTART:20240331T010000
END:DAYLIGHT
BEGIN:STANDARD
TZOFFSETFROM:+0200
TZOFFSETTO:+0100
TZNAME:CET
DTSTART:20241027T010000
END:STANDARD
BEGIN:DAYLIGHT
TZOFFSETFROM:+0100
TZOFFSETTO:+0200
TZNAME:CEST
DTSTART:20250330T010000
END:DAYLIGHT
BEGIN:STANDARD
TZOFFSETFROM:+0200
TZOFFSETTO:+0100
TZNAME:CET
DTSTART:20251026T010000
END:STANDARD
BEGIN:DAYLIGHT
TZOFFSETFROM:+0100
TZOFFSETTO:+0200
TZNAME:CEST
DTSTART:20260329T010000
END:DAYLIGHT
BEGIN:STANDARD
TZOFFSETFROM:+0200
TZOFFSETTO:+0100
TZNAME:CET
DTSTART:20261025T010000
END:STANDARD
END:VTIMEZONE
BEGIN:VEVENT
DTSTART;TZID=Europe/Berlin:20250201T090000
DTEND;TZID=Europe/Berlin:20250201T153000
DTSTAMP:20260422T225359
CREATED:20250120T154720Z
LAST-MODIFIED:20250123T214153Z
UID:451-1738400400-1738423800@fuereinanderhier.de
SUMMARY:Kochkurs
DESCRIPTION:Kochen mit wilden Wurzeln und wilden Kräutern\nDas Menü im Februar \nSalat von wilden Kräutern mit Feigensenf Dressing und gebratem Seidentofu \nEintopf von selbst gesammelten Wurzeln mit roter\nBette und Thymian \nGrünkernlaib und Hackbraten vom Bio Rind aus St.Peter vom Schweighof\nMit Brennnessel Spinat\nKartoffel Löwenzahn Püree\nSpitzwegerich Sauce \nSchokoladenmousse vegan\nPestwurz Halbgefrorenes\nApfel Kompott \nAnmeldungen und weitere Infos \nbeim Küchenmeister Josef Fehrenbach\n01762-4866844\njoseffehrenbach66@gmail.com
URL:https://fuereinanderhier.de/termin/kochkurs-4/
LOCATION:Dorfplatz\, Am Birkenrain 26b\, St. Peter\, Baden-Württemberg\, 79271\, Germany
CATEGORIES:Kochkurs
ORGANIZER;CN="F%C3%BCreinander Hier e.V.":MAILTO:info@fuereinanderhier.de
END:VEVENT
BEGIN:VEVENT
DTSTART;TZID=Europe/Berlin:20250203T150000
DTEND;TZID=Europe/Berlin:20250203T200000
DTSTAMP:20260422T225359
CREATED:20250120T154348Z
LAST-MODIFIED:20250123T214636Z
UID:449-1738594800-1738612800@fuereinanderhier.de
SUMMARY:Kochkurs
DESCRIPTION:Kochen mit wilden Wurzeln und wilden Kräutern\nDas Menü im Februar \nSalat von wilden Kräutern mit Feigensenf Dressing und gebratenem Seidentofu \nEintopf von selbst gesammelten Wurzeln mit roter Bette und Thymian\, Grünkernlaib und Hackbraten vom Bio Rind aus St.Peter vom Schweighof.\nMit Brennnessel Spinat\, Kartoffel Löwenzahn Püree\nSpitzwegerich Sauce\nSchokoladenmousse vegan\nPestwurz Halbgefrorenes\nApfel Kompott \nAnmeldungen und weitere Infos \nbeim Küchenmeister Josef Fehrenbach\n01762-4866844\njoseffehrenbach66@gmail.com
URL:https://fuereinanderhier.de/termin/kochkurs-3/
LOCATION:Dorfplatz\, Am Birkenrain 26b\, St. Peter\, Baden-Württemberg\, 79271\, Germany
CATEGORIES:Kochkurs
ORGANIZER;CN="F%C3%BCreinander Hier e.V.":MAILTO:info@fuereinanderhier.de
END:VEVENT
BEGIN:VEVENT
DTSTART;TZID=Europe/Berlin:20250221T100000
DTEND;TZID=Europe/Berlin:20250221T170000
DTSTAMP:20260422T225359
CREATED:20250220T145956Z
LAST-MODIFIED:20250228T101048Z
UID:478-1740132000-1740157200@fuereinanderhier.de
SUMMARY:Vereinsfreitag
DESCRIPTION:Motto: Ein Kaffee und ein Lächeln.\n  \nVereinsfreitag\, immer von 10.00 Uhr – 17.00 Uhr \nHier ist Raum für Begegnung und Kennenlernen.
URL:https://fuereinanderhier.de/termin/vereinsfreitag/
LOCATION:Dorfladen »Heimatland«\, Zähringer Straße 2\, St. Peter\, Baden-Württemberg\, 79271\, Germany
CATEGORIES:Ereignis
ORGANIZER;CN="F%C3%BCreinander Hier e.V.":MAILTO:info@fuereinanderhier.de
END:VEVENT
BEGIN:VEVENT
DTSTART;TZID=Europe/Berlin:20250228T100000
DTEND;TZID=Europe/Berlin:20250228T170000
DTSTAMP:20260422T225359
CREATED:20250220T150201Z
LAST-MODIFIED:20250228T101019Z
UID:480-1740736800-1740762000@fuereinanderhier.de
SUMMARY:Vereinsfreitag
DESCRIPTION:Motto: Ein Kaffee und ein Lächeln.\n  \nVereinsfreitag\, immer von 10.00 Uhr – 17.00 Uhr \nHier ist Raum für Begegnung und Kennenlernen.
URL:https://fuereinanderhier.de/termin/vereinsfreitag-2/
LOCATION:Dorfladen »Heimatland«\, Zähringer Straße 2\, St. Peter\, Baden-Württemberg\, 79271\, Germany
CATEGORIES:Ereignis
ORGANIZER;CN="F%C3%BCreinander Hier e.V.":MAILTO:info@fuereinanderhier.de
END:VEVENT
END:VCALENDAR