BEGIN:VCALENDAR
VERSION:2.0
PRODID:-//Füreinander Hier e.V. - ECPv6.15.20//NONSGML v1.0//EN
CALSCALE:GREGORIAN
METHOD:PUBLISH
X-WR-CALNAME:Füreinander Hier e.V.
X-ORIGINAL-URL:https://fuereinanderhier.de
X-WR-CALDESC:Veranstaltungen für Füreinander Hier e.V.
REFRESH-INTERVAL;VALUE=DURATION:PT1H
X-Robots-Tag:noindex
X-PUBLISHED-TTL:PT1H
BEGIN:VTIMEZONE
TZID:Europe/Berlin
BEGIN:DAYLIGHT
TZOFFSETFROM:+0100
TZOFFSETTO:+0200
TZNAME:CEST
DTSTART:20240331T010000
END:DAYLIGHT
BEGIN:STANDARD
TZOFFSETFROM:+0200
TZOFFSETTO:+0100
TZNAME:CET
DTSTART:20241027T010000
END:STANDARD
BEGIN:DAYLIGHT
TZOFFSETFROM:+0100
TZOFFSETTO:+0200
TZNAME:CEST
DTSTART:20250330T010000
END:DAYLIGHT
BEGIN:STANDARD
TZOFFSETFROM:+0200
TZOFFSETTO:+0100
TZNAME:CET
DTSTART:20251026T010000
END:STANDARD
BEGIN:DAYLIGHT
TZOFFSETFROM:+0100
TZOFFSETTO:+0200
TZNAME:CEST
DTSTART:20260329T010000
END:DAYLIGHT
BEGIN:STANDARD
TZOFFSETFROM:+0200
TZOFFSETTO:+0100
TZNAME:CET
DTSTART:20261025T010000
END:STANDARD
END:VTIMEZONE
BEGIN:VEVENT
DTSTART;TZID=Europe/Berlin:20250606T100000
DTEND;TZID=Europe/Berlin:20250606T170000
DTSTAMP:20260422T170111
CREATED:20250601T050646Z
LAST-MODIFIED:20250601T092213Z
UID:623-1749204000-1749229200@fuereinanderhier.de
SUMMARY:Vereinsfreitag im Dorfladen Heimatland in der Sonne
DESCRIPTION:Motto: Ein Kaffee und ein Lächeln.\n  \nVereinsfreitag\, immer von 10.00 Uhr – 17.00 Uhr \nHier ist Raum für Begegnung und Kennenlernen.
URL:https://fuereinanderhier.de/termin/vereinsfreitag-im-dorfladen-heimatland-in-der-sonne/
LOCATION:Dorfladen »Heimatland«\, Zähringer Straße 2\, St. Peter\, Baden-Württemberg\, 79271\, Germany
CATEGORIES:Ereignis
END:VEVENT
BEGIN:VEVENT
DTSTART;TZID=Europe/Berlin:20250613T100000
DTEND;TZID=Europe/Berlin:20250613T170000
DTSTAMP:20260422T170111
CREATED:20250612T194230Z
LAST-MODIFIED:20250612T194302Z
UID:668-1749808800-1749834000@fuereinanderhier.de
SUMMARY:Vereinsfreitag im Dorfladen Heimatland in der Sonne
DESCRIPTION:
URL:https://fuereinanderhier.de/termin/vereinsfreitag-im-dorfladen-heimatland-in-der-sonne-2/
LOCATION:Dorfladen »Heimatland«\, Zähringer Straße 2\, St. Peter\, Baden-Württemberg\, 79271\, Germany
CATEGORIES:Ereignis
END:VEVENT
BEGIN:VEVENT
DTSTART;TZID=Europe/Berlin:20250629T090000
DTEND;TZID=Europe/Berlin:20250629T230000
DTSTAMP:20260422T170111
CREATED:20250601T051053Z
LAST-MODIFIED:20250602T043914Z
UID:625-1751187600-1751238000@fuereinanderhier.de
SUMMARY:Dorffest St. Peter
DESCRIPTION:Patrozinium Peter und Paul und Dorffest St. Peter\nDas Patrozinium\, ein Fest zu Ehren der Apostel Petrus und Paulus (den Schutzpatronen St. Peters) wird\, in Verbindung mit dem anschließenden Dorffest\, seit etwa 900 Jahren immer am letzten Sonntag des Monats Juni gefeiert. \nWir\, der Verein Füreinander Hier e.V. sind mit einem Stand am Bertoldbrunnen dabei. Wir freuen uns auf Ihren Besuch! \nhttp://www.st-peter-schwarzwald.de/…
URL:https://fuereinanderhier.de/termin/dorffest/
LOCATION:St. Peter\, St. Peter\, 79271\, Germany
CATEGORIES:Ereignis
END:VEVENT
END:VCALENDAR