BEGIN:VCALENDAR
VERSION:2.0
PRODID:-//Füreinander Hier e.V. - ECPv6.15.20//NONSGML v1.0//EN
CALSCALE:GREGORIAN
METHOD:PUBLISH
X-ORIGINAL-URL:https://fuereinanderhier.de
X-WR-CALDESC:Veranstaltungen für Füreinander Hier e.V.
REFRESH-INTERVAL;VALUE=DURATION:PT1H
X-Robots-Tag:noindex
X-PUBLISHED-TTL:PT1H
BEGIN:VTIMEZONE
TZID:Europe/Berlin
BEGIN:DAYLIGHT
TZOFFSETFROM:+0100
TZOFFSETTO:+0200
TZNAME:CEST
DTSTART:20240331T010000
END:DAYLIGHT
BEGIN:STANDARD
TZOFFSETFROM:+0200
TZOFFSETTO:+0100
TZNAME:CET
DTSTART:20241027T010000
END:STANDARD
BEGIN:DAYLIGHT
TZOFFSETFROM:+0100
TZOFFSETTO:+0200
TZNAME:CEST
DTSTART:20250330T010000
END:DAYLIGHT
BEGIN:STANDARD
TZOFFSETFROM:+0200
TZOFFSETTO:+0100
TZNAME:CET
DTSTART:20251026T010000
END:STANDARD
BEGIN:DAYLIGHT
TZOFFSETFROM:+0100
TZOFFSETTO:+0200
TZNAME:CEST
DTSTART:20260329T010000
END:DAYLIGHT
BEGIN:STANDARD
TZOFFSETFROM:+0200
TZOFFSETTO:+0100
TZNAME:CET
DTSTART:20261025T010000
END:STANDARD
END:VTIMEZONE
BEGIN:VEVENT
DTSTART;TZID=Europe/Berlin:20250718T100000
DTEND;TZID=Europe/Berlin:20250718T170000
DTSTAMP:20260422T152521
CREATED:20250712T091217Z
LAST-MODIFIED:20250717T193244Z
UID:720-1752832800-1752858000@fuereinanderhier.de
SUMMARY:Wir sind im Dorfladen
DESCRIPTION:Unser „Vereinsfreitag“ im Dorfladen\nWir freuen uns über Euren Besuch. Es gibt die eine oder andere Köstlichkeit\, von uns oder der „Sonne“. Auf alle Fälle aber interessante Begegnungen. \n \nBis Freitag!
URL:https://fuereinanderhier.de/termin/wir-sind-im-dorfladen/
LOCATION:Dorfladen »Heimatland«\, Zähringer Straße 2\, St. Peter\, Baden-Württemberg\, 79271\, Germany
CATEGORIES:Ereignis
ORGANIZER;CN="F%C3%BCreinander Hier e.V.":MAILTO:info@fuereinanderhier.de
END:VEVENT
BEGIN:VEVENT
DTSTART;TZID=Europe/Berlin:20250726T140000
DTEND;TZID=Europe/Berlin:20250726T163000
DTSTAMP:20260422T152521
CREATED:20250721T180245Z
LAST-MODIFIED:20250721T180425Z
UID:792-1753538400-1753547400@fuereinanderhier.de
SUMMARY:Einladung der Kommune Schafhof zur Hofführung mit Kaffee und Kuchen
DESCRIPTION:Die Kommune Schafhof in St. Peter lädt ein:\n \nLiebe Interessierte der Kommune Schafhof\, \nam kommenden Samstag\, den 26. Juli\, wollen wir euch ganz herzlich um 14 Uhr zu einer Hofführung auf den Schafhof einladen! \nDabei werden wir euch von der Geschichte des Hofes\, unserer landwirtschaftlichen Arbeit und unserem Modell der Hofübernahme erzählen. \nWir benötigen weiterhin auch eure Unterstützung um den Schafhof langfristig zu sichern. Ihr bekommt also auch Informationen über die Möglichkeit uns in unserer Arbeit mit einem Kredit oder Genossenschaftsanteil zu unterstützen. \nLos geht es um 14 Uhr\, die Führung wird ca 1\,5 Stunden dauern und danach gibts Kaffee und leckeren Kuchen. \nWir freuen uns auf euch\,\nsommerliche Grüße von der Kommune Schafhof
URL:https://fuereinanderhier.de/termin/einladung-der-kommune-schafhof-zur-hoffuehrung-mit-kaffee-und-kuchen/
LOCATION:Kommune Schafhof\, Eichwaldstraße 1\, St. Peter\, Baden-Württemberg\, 79271\, Germany
CATEGORIES:Ereignis
ORGANIZER;CN="Kommune Schafhof":MAILTO:kontakt@kommune-schafhof.de
END:VEVENT
END:VCALENDAR