BEGIN:VCALENDAR
VERSION:2.0
PRODID:-//Füreinander Hier e.V. - ECPv6.15.20//NONSGML v1.0//EN
CALSCALE:GREGORIAN
METHOD:PUBLISH
X-WR-CALNAME:Füreinander Hier e.V.
X-ORIGINAL-URL:https://fuereinanderhier.de
X-WR-CALDESC:Veranstaltungen für Füreinander Hier e.V.
REFRESH-INTERVAL;VALUE=DURATION:PT1H
X-Robots-Tag:noindex
X-PUBLISHED-TTL:PT1H
BEGIN:VTIMEZONE
TZID:Europe/Berlin
BEGIN:DAYLIGHT
TZOFFSETFROM:+0100
TZOFFSETTO:+0200
TZNAME:CEST
DTSTART:20240331T010000
END:DAYLIGHT
BEGIN:STANDARD
TZOFFSETFROM:+0200
TZOFFSETTO:+0100
TZNAME:CET
DTSTART:20241027T010000
END:STANDARD
BEGIN:DAYLIGHT
TZOFFSETFROM:+0100
TZOFFSETTO:+0200
TZNAME:CEST
DTSTART:20250330T010000
END:DAYLIGHT
BEGIN:STANDARD
TZOFFSETFROM:+0200
TZOFFSETTO:+0100
TZNAME:CET
DTSTART:20251026T010000
END:STANDARD
BEGIN:DAYLIGHT
TZOFFSETFROM:+0100
TZOFFSETTO:+0200
TZNAME:CEST
DTSTART:20260329T010000
END:DAYLIGHT
BEGIN:STANDARD
TZOFFSETFROM:+0200
TZOFFSETTO:+0100
TZNAME:CET
DTSTART:20261025T010000
END:STANDARD
END:VTIMEZONE
BEGIN:VEVENT
DTSTART;TZID=Europe/Berlin:20250801T190000
DTEND;TZID=Europe/Berlin:20250801T220000
DTSTAMP:20260422T135344
CREATED:20250706T141634Z
LAST-MODIFIED:20250725T152127Z
UID:672-1754074800-1754085600@fuereinanderhier.de
SUMMARY:Dokumentarfilm über die Freiburger Bombennacht "Sonst war es still"
DESCRIPTION:Wir zeigen im Pfarrheim Peter und Paul in St. Peter den Dokumentarfilm „Sonst war es still“ mit einem anschließenden Gespräch mit Zeitzeugen. \nModeration: Christian Nagel \n \nFilmvorschau:\nhttps://fuereinanderhier.de/wp-content/uploads/Trailer-Sonst-war-es-still.mp4\n  \nEin Artikel dazu findet sich auf dem Blog von Ekkehard Kaier: https://www.freiburg-schwarzwald.de/blog/regio/freiburg/freiburg1944/ \n„Am 27. November 1944 führte die britische Royal Air Force den Luftangriff „Tigerfish“ auf die Altstadt von Freiburg aus: Binnen 20 Minuten von 19.55 bis 20.18 Uhr warfen 351 Flugzeuge über 3000 Sprengbomben ab. Fast 3000 Tote und 9600 Verletzte. Die Stadt zerstört – mit wundersamer Ausnahme des Freiburger Münsters.“
URL:https://fuereinanderhier.de/termin/dokumentarfilm-ueber-die-freiburger-bombennacht-sonst-war-es-still/
LOCATION:Pfarrheim Peter und Paul\, St. Peter\, Schulweg 3\, St. Peter\, Baden Württemberg\, 79271\, Germany
CATEGORIES:Ereignis,Film
ORGANIZER;CN="F%C3%BCreinander Hier e.V.":MAILTO:info@fuereinanderhier.de
END:VEVENT
BEGIN:VEVENT
DTSTART;TZID=Europe/Berlin:20250806T190000
DTEND;TZID=Europe/Berlin:20250806T220000
DTSTAMP:20260422T135344
CREATED:20250722T050942Z
LAST-MODIFIED:20250722T051757Z
UID:818-1754506800-1754517600@fuereinanderhier.de
SUMMARY:Abend zum Thema Alltagsbegleitung in unseren Vereinsleben
DESCRIPTION:Herzliche Einladung zu einem Abend zum Thema Alltagsbegleitung in unseren Vereinsleben\nGemeinsam mit Ulrich Kaiser und Theo Falck erarbeiten wir Ideen wie wir die Unterstützung der älteren Generation in unseren Vereinsleben umsetzen können. \nUlrich Kaiser: Wegbegleitung-Freiburg:\nAlltagsbegleitung für Senioren: Einfühlsam\, flexibel\, zuverlässig – mit viel Herz und der nötigen Zeit. Begleitende Alltagsunterstützung für Angehörige\, Senioren und Menschen mit Hilfebedarf: Begleitung bei Arztbesuchen\, Koordination von Hilfsmaßnahmen und helfenden Organisationen\, Behörden- oder Botengänge\, Einkaufen\, Fahrdienste\, Verwaltungstätigkeiten\, Garten-\, Balkon- und Friedhofspflege\, Gespräche\, Vorlesen\, Gesellschaftsspiele\,\nhttps://wegbegleitung-freiburg.de/ \nTheo Falck Pflegeberatung\nBeratung von Pflegebedürftigen und deren Angehörige hinsichtlich der ihnen zustehenden Sozialleistungen und Hilfsangebote.\nUnterstützung bei der Organisation und Gestaltung der Pflegesituation\, vom Antragsverfahren bis hin zur rechtlichen Durchsetzung der Leistungsansprüche.\nhttps://pflegeberatung-falck.de/ \nSie berichten von ihren Erfahrungen und beantworten unsere Fragen rund um die Alltagsbegleitung und die anfallende Bürokratie. \nUnsere Vision ist es\, die ältere Generation wertschätzend in unser Tun miteinzubinden und ihnen durch entstehende Freundschaften und Kontakte eine Alltagsbegleitung über den Verein zu ermöglichen.\nHelfende Menschen\, denen eine Ehrenamtspauschale finanzielle Unterstützung ist\, sollen diese auch bekommen\, andere Menschen geben ihre Zeit gerne.\nSo ist im Laufe der Zeit für alle gesorgt. \nUm ein kleine Spende für den Verein wird gebeten. \nDiese Einladung ist öffentlich und geht auch an die Vorstände der Vereine in den Nachbargemeinden\, die sich für die Alltagsbegleitung der älteren Generation einsetzen. \nDazu gab` es am letzten Dienstag eine Veranstaltung vom Landratsamt. Das Motto dieser Treffen ist: „Es braucht ein ganzes Dorf um in Würde gemeinsam zu leben.“\nLetzte Woche ging es um die Finanzierung der einzelnen Projekte.\nMit der Unterstützung von Ulrich Kaiser und Theo Falck wollen wir ein Konzept dazu für unseren Verein erarbeiten. \nEs wäre schön\, wenn sich aus unseren Reihen Menschen finden\, die interessiert an der Konzeptausarbeitung sind. \nDa die Plätze begrenzt sind (15 Menschen)\, bitte ich um eine kurze Anmeldung unter: info@fuereinanderhier.de oder 07660-446 auf den AB.
URL:https://fuereinanderhier.de/termin/abend-zum-thema-alltagsbegleitung-in-unseren-vereinsleben/
LOCATION:Dorfplatz\, Am Birkenrain 26b\, St. Peter\, Baden-Württemberg\, 79271\, Germany
CATEGORIES:Ereignis,Workshop
ORGANIZER;CN="F%C3%BCreinander Hier e.V.":MAILTO:info@fuereinanderhier.de
END:VEVENT
BEGIN:VEVENT
DTSTART;VALUE=DATE:20250809
DTEND;VALUE=DATE:20250811
DTSTAMP:20260422T135344
CREATED:20250722T045726Z
LAST-MODIFIED:20250722T045913Z
UID:808-1754697600-1754870399@fuereinanderhier.de
SUMMARY:32. Badweiher-Hock - Internationales Schaufahren der Modellschiffe
DESCRIPTION:„Hättest du gedacht\, dass St. Peter im Südschwarzwald einen Überseehafen hat? Sicher nicht. Zugegeben\, den Hafen gibt es nur einmal im Jahr. Dann nämlich treffen sich Modellschiffkapitäne aus vielen Ländern. \nZahlreiche Schiffsmodellbauer aus dem In- und Ausland reisen dazu mit ihren Schiffsmodellen an. Das ganze Wochenende von Samstag 10:00 Uhr bis Sonntag 16:00 Uhr werden sie ihre Modelle in Ausstellungszelten und bei Vorführungen auf dem Wasser präsentieren. Dabei können die Besucher an die 250 Schiffsmodelle aus den unterschiedlichsten Bereichen sehen. Die Modellpalette reicht dabei von funktionstüchtigen Schleppern und Segelbooten über tauchfähige U-Boote bis hin zu Ruderbooten. \nMit Modellschiff-Vorführungen\, Essen\, Trinken und Musik. Ein „Leckerbissen“ für alle Modellschiff-Liebhaber! Hier kommen Jung und Alt auf ihre Kosten! Zu dem Treffen sind Gäste wie Einheimische herzlich eingeladen. Samstags findet bei guter Witterung gegen 22 Uhr ein Feuerwerk in Wasserhöhe statt.“ (Quelle: https://www.hochschwarzwald.de/events/…)
URL:https://fuereinanderhier.de/termin/32-badweiher-hock-internationales-schaufahren-der-modellschiffe/
LOCATION:Badweiher\, St. Peter\, Kapellenweg\, St. Peter\, Baden-Württemberg\, 79271\, Germany
CATEGORIES:Ereignis
ORGANIZER;CN="Modell-Schiff-Kapit%C3%A4ne-St. Peter / Schwarzwald e.V.":MAILTO:info@msk-st-peter.de
END:VEVENT
BEGIN:VEVENT
DTSTART;TZID=Europe/Berlin:20250815T180000
DTEND;TZID=Europe/Berlin:20250815T220000
DTSTAMP:20260422T135344
CREATED:20250722T183123Z
LAST-MODIFIED:20250813T052044Z
UID:841-1755280800-1755295200@fuereinanderhier.de
SUMMARY:Fällt leider mangels Anmeldungen aus - Schwarzwald-Netzwerk Treffen
DESCRIPTION:Fällt leider mangels Anmeldungen aus\nIch lade Euch dazu alle herzlich zu mir ein am \nFreitag dem 15. August 2025 ab 18 Uhr in St. Peter \nUnser Zusammenkommen wird einen Raum für das Teilen unserer Erlebnisse bieten. Es wird uns miteinander in Kontakt bringen. Gemeinsam werden wir Ideen und Initiativen entstehen lassen können\, die einer lichtvollen Zukunft den Weg ebnen. \nBitte meldet Euch an. Per Mail über mail@schwarzwald-netzwerk.de oder telefonisch unter 07660 2144755. \nIch freue mich auf Euch!
URL:https://fuereinanderhier.de/termin/schwarzwald-netzwerk-treffen/
LOCATION:St. Peter\, St. Peter\, 79271\, Germany
CATEGORIES:Treffen
ORGANIZER;CN="Schwarzwald Netzwerk":MAILTO:mail@schwarzwald-netzwerk.de
END:VEVENT
BEGIN:VEVENT
DTSTART;TZID=Europe/Berlin:20250829T183000
DTEND;TZID=Europe/Berlin:20250829T210000
DTSTAMP:20260422T135344
CREATED:20250826T163040Z
LAST-MODIFIED:20250826T163040Z
UID:883-1756492200-1756501200@fuereinanderhier.de
SUMMARY:Mikrokosmos Kuhfladen
DESCRIPTION:
URL:https://fuereinanderhier.de/termin/mikrokosmos-kuhfladen/
LOCATION:St. Peter\, St. Peter\, 79271\, Germany
CATEGORIES:Ereignis,Vortrag
END:VEVENT
BEGIN:VEVENT
DTSTART;TZID=Europe/Berlin:20250831T163000
DTEND;TZID=Europe/Berlin:20250831T180000
DTSTAMP:20260422T135344
CREATED:20250829T135638Z
LAST-MODIFIED:20250829T135825Z
UID:921-1756657800-1756663200@fuereinanderhier.de
SUMMARY:Lesungen unter Linden
DESCRIPTION:Gespräche über den Frieden\nDrei Menschen und ihr Thema „Frieden“: Für dieses Thema sind sie je eigene Wege gegangen und haben ihre inspirierenden Gedanken auch in Büchern gefasst. Daraus lesen sie an einem Ort\, der diesen Frieden erahnen lässt; seit Jahrzehnten ist „Maria Lindenberg“ ein zentraler Ort des Gebetes um Frieden im Erzbistum Freiburg. Die Veranstaltungsreihe findet anlässlich des Jubiläumsjahres „110 Jahre Exerzitienhaus Maria Lindenberg“ statt. \n Referent:\nBruder Longinus Beha OSB (Buchautor\, Benediktiner und ehemaliger Zeitsoldat in Afghanistan)\nBuch:\nAb morgen Mönch: Ein Afghanistansoldat geht ins Kloster\nMusikalische Begleitung:\nProjektchor „Wandern und Singen“ unter Leitung von Martina Freyta \n>> Keine Anmeldung nötig\n>>> Die Teilnahme ist kostenfrei\n>>> Ort: Unter den Linden bei der Kirche Maria Lindenberg\, St. Peter \nBei schlechtem Wetter gibt es alternative Räumlichkeiten vor Ort.
URL:https://fuereinanderhier.de/termin/lesungen-unter-linden/
LOCATION:Wallfahrtskirche Maria Lindenberg\, Lindenbergstraße 25\, St. Peter\, Baden-Württemberg\, 79271\, Germany
CATEGORIES:Lesung
ORGANIZER;CN="Katholische Akademie":MAILTO:mail@katholische-akademie-freiburg.de
END:VEVENT
END:VCALENDAR