BEGIN:VCALENDAR
VERSION:2.0
PRODID:-//Füreinander Hier e.V. - ECPv6.15.20//NONSGML v1.0//EN
CALSCALE:GREGORIAN
METHOD:PUBLISH
X-ORIGINAL-URL:https://fuereinanderhier.de
X-WR-CALDESC:Veranstaltungen für Füreinander Hier e.V.
REFRESH-INTERVAL;VALUE=DURATION:PT1H
X-Robots-Tag:noindex
X-PUBLISHED-TTL:PT1H
BEGIN:VTIMEZONE
TZID:Europe/Berlin
BEGIN:DAYLIGHT
TZOFFSETFROM:+0100
TZOFFSETTO:+0200
TZNAME:CEST
DTSTART:20240331T010000
END:DAYLIGHT
BEGIN:STANDARD
TZOFFSETFROM:+0200
TZOFFSETTO:+0100
TZNAME:CET
DTSTART:20241027T010000
END:STANDARD
BEGIN:DAYLIGHT
TZOFFSETFROM:+0100
TZOFFSETTO:+0200
TZNAME:CEST
DTSTART:20250330T010000
END:DAYLIGHT
BEGIN:STANDARD
TZOFFSETFROM:+0200
TZOFFSETTO:+0100
TZNAME:CET
DTSTART:20251026T010000
END:STANDARD
BEGIN:DAYLIGHT
TZOFFSETFROM:+0100
TZOFFSETTO:+0200
TZNAME:CEST
DTSTART:20260329T010000
END:DAYLIGHT
BEGIN:STANDARD
TZOFFSETFROM:+0200
TZOFFSETTO:+0100
TZNAME:CET
DTSTART:20261025T010000
END:STANDARD
END:VTIMEZONE
BEGIN:VEVENT
DTSTART;TZID=Europe/Berlin:20250913T090000
DTEND;TZID=Europe/Berlin:20250913T120000
DTSTAMP:20260422T123128
CREATED:20250828T070749Z
LAST-MODIFIED:20250830T054814Z
UID:899-1757754000-1757764800@fuereinanderhier.de
SUMMARY:Kochseminar - Pilze 🍄 Kräuter und Honig vegetarisch
DESCRIPTION:Im September Sa. 13.9.2025 und Mo. 15.9.2025. \nDasThema: Pilze 🍄 Kräuter und Honig vegetarisch \nDas Seminar findet im Dorfplatz bei Thaddäus und Petra Kürner statt\, Am Birkenrain 26 b\, 79271 St.Peter. \nAm Montag von 18.00 bis 21.00 Uhr\nAm Samstag von 9.00 Uhr bis 12.00 Uhr \nBei Seminaren mit Fleisch gibt es immer eine vegetarische oder vegane Alternative.  \nPreis für ein Seminar Euro 48.00 pro Person. \nEs kann immer ein Gast pro Teilnehmer teilnehmen. Preis 28.00 \nBei Kauf von 3 Seminaren ist der Preis pro Seminar und Person 45.00 Euro. \nDer Kurs ist vorab zu bezahlen. Bei Absagen bis 5 Tagen vor dem Seminar ist keine Gebühr fällig. Danach 25 % vom Kurs Preis. 75 % werden erstattet oder für einen anderen Kurs angerechnet. \nIch freue mich auf zahlreiche Teilnehmer.\nPro Kurs sind höchstens 8Teilnehmer möglich.\nDer Kurs findet ab 4 Teilnehmer statt. \nEuer Küchenmeister Josef Fehrenbach \nAnmeldungen bitte direkt an Josef:\nJosef Fehrenbach joseffehrenbach66@gmail.com
URL:https://fuereinanderhier.de/termin/kochseminar-pilze-%f0%9f%8d%84-kraeuter-und-honig-vegetarisch-2/
LOCATION:Dorfplatz\, Am Birkenrain 26b\, St. Peter\, Baden-Württemberg\, 79271\, Germany
CATEGORIES:Kochseminar
ORGANIZER;CN="K%C3%BCchenmeister Josef Fehrenbach":MAILTO:joseffehrenbach66@gmail.com
END:VEVENT
BEGIN:VEVENT
DTSTART;TZID=Europe/Berlin:20250915T180000
DTEND;TZID=Europe/Berlin:20250915T210000
DTSTAMP:20260422T123128
CREATED:20250828T065757Z
LAST-MODIFIED:20250830T054731Z
UID:886-1757959200-1757970000@fuereinanderhier.de
SUMMARY:Kochseminar - Pilze 🍄 Kräuter und Honig vegetarisch
DESCRIPTION:Im September Sa. 13.9.2025 und Mo. 15.9.2025. \nDasThema: Pilze 🍄 Kräuter und Honig vegetarisch \nDas Seminar findet im Dorfplatz bei Thaddäus und Petra Kürner statt\, Am Birkenrain 26 b\, 79271 St.Peter. \nAm Montag von 18.00 bis 21.00 Uhr\nAm Samstag von 9.00 Uhr bis 12.00 Uhr \nBei Seminaren mit Fleisch gibt es immer eine vegetarische oder vegane Alternative.  \nPreis für ein Seminar Euro 48.00 pro Person. \nEs kann immer ein Gast pro Teilnehmer teilnehmen. Preis 28.00 \nBei Kauf von 3 Seminaren ist der Preis pro Seminar und Person 45.00 Euro. \nDer Kurs ist vorab zu bezahlen. Bei Absagen bis 5 Tagen vor dem Seminar ist keine Gebühr fällig. Danach 25 % vom Kurs Preis. 75 % werden erstattet oder für einen anderen Kurs angerechnet. \nIch freue mich auf zahlreiche Teilnehmer.\nPro Kurs sind höchstens 8Teilnehmer möglich.\nDer Kurs findet ab 4 Teilnehmer statt. \nEuer Küchenmeister Josef Fehrenbach \nAnmeldungen bitte direkt an Josef:\nJosef Fehrenbach joseffehrenbach66@gmail.com
URL:https://fuereinanderhier.de/termin/kochseminar-pilze-%f0%9f%8d%84-kraeuter-und-honig-vegetarisch/
LOCATION:Dorfplatz\, Am Birkenrain 26b\, St. Peter\, Baden-Württemberg\, 79271\, Germany
CATEGORIES:Kochseminar
ORGANIZER;CN="K%C3%BCchenmeister Josef Fehrenbach":MAILTO:joseffehrenbach66@gmail.com
END:VEVENT
BEGIN:VEVENT
DTSTART;TZID=Europe/Berlin:20250925T190000
DTEND;TZID=Europe/Berlin:20250925T210000
DTSTAMP:20260422T123128
CREATED:20250911T052829Z
LAST-MODIFIED:20250911T052829Z
UID:932-1758826800-1758834000@fuereinanderhier.de
SUMMARY:Erlebnis-Abend Gesichtslesen
DESCRIPTION:
URL:https://fuereinanderhier.de/termin/erlebnis-abend-gesichtslesen/
LOCATION:Dorfplatz\, Am Birkenrain 26b\, St. Peter\, Baden-Württemberg\, 79271\, Germany
CATEGORIES:Ereignis
END:VEVENT
BEGIN:VEVENT
DTSTART;VALUE=DATE:20250927
DTEND;VALUE=DATE:20250928
DTSTAMP:20260422T123128
CREATED:20250714T134724Z
LAST-MODIFIED:20250714T134724Z
UID:748-1758931200-1759017599@fuereinanderhier.de
SUMMARY:Soil Sound Festival in St. Peter
DESCRIPTION:Ralf Schmid schrieb: \nDear friends\, colleagues\, fellow travellers\, liebe Leute\,\n(english version below) \nich möchte Euch gern auf ein Herzensprojekt aufmerksam machen und Euch zum „Soil Sound Festival“ am Samstag\, 27. September in St. Peter einladen. \nWir beschäftigen uns dort mit der Frage: Was ist in Zeiten der Spaltung eigentlich unser aller “Common Ground”? Der Boden unter unseren Füßen! Und wie können wir positive Zukünfte ermöglichen? Indem wir im wahrsten Sinne des Wortes Boden gut machen! \nWas hat das mit Musik zu tun? Das wollen wir der Öffentlichkeit am 27.9. vorstellen und bringen dazu Menschen aus vielen Himmelsrichtungen und Disziplinen zusammen – zum Feiern\, Musik hören\, Dazulernen und Hoffnung schöpfen. Das Soil Sound Festival findet statt im Holistic Compost Lab am Steingrubenhof in St. Peter im Schwarzwald – rund 30 Minuten von Freiburg entfernt. \nEin Tag draußen\, ein Tag zum Austauschen\, Lauschen\, Mitmachen und Genießen – an der Schnittstelle von Boden\, Klang und Transformation. \nIm Mittelpunkt stehen spannende Projekte und Einsichten in die Welt von Soil Music – eine kreativ-wissenschaftliche Reise zu lebendigem Boden\, der unsere Nahrung sichert\, ein zentraler Mitspieler für die Stabilisierung unserer Ökosysteme ist und sogar auch als Klangkörper fasziniert. \nDas Festival-Setting:  **🕒 ab 10.00h: Fachtagung | ab 12.00h Hoffest | ab 17.00 Konzert(e) **\nEin Tag draußen am Hof und drinnen im Lab – mit Musik\, Soil Food\, Kompostklängen\, Workshops\, Vorträgen\, SoundWalks\, Installationen und vielen Überraschungen. Gemeinsam fragen wir: Wie klingt Boden? Und wie lässt sich (Agri-)Kultur in Zeiten planetarer Krisen neu komponieren? \nKommt nach St. Peter\, bringt eure Neugier mit – gerne auch Gitarren und warme Jacken! \nSave the date – weitere Informationen und Details zur Teilnahme folgen in Kürze. Ich freue mich\, wenn Ihr das an Menschen weiterleitet\, die diese Thematik anspricht! \nHerzliche Grüsse \nRalf Schmid \nP.S. Meldet Euch sehr gerne\, wenn Ihr Euch einbringen wollt. Wir freuen uns über kleine und grosse Unterstützung in den kommenden Wochen\, entweder tatkräftig (Anpacken\, Orga\, Kommunikation\, Handwerk etc.) oder finanziell. Wir setzen zeitnah ein Crowdfunding auf\, das unsere EU-Förderung komplettiert. \n—- \nDear all\, \nI would like to draw your attention to a project close to my heart and recommend the “Soil Sound Festival” on Saturday\, September 27th in St. Peter. \nWhy Soil\, why Soil Music? We are dealing with the question: In times of division\, what is our common ground? The ground beneath our feet! And how can we make positive futures possible? By making up ground in the truest sense of the word. \nWhat does this have to do with music? We want to present this to the public on Sept 27 and bring together people from many directions and disciplines – to celebrate\, listen to music\, learn and draw hope. The Soil Sound Festival will take place at the Holistic Compost Lab at Steingrubenhof in St. Peter in the Black Forest – around 30 minutes from Freiburg. \nA day outside\, a day for sharing\, listening\, participating and enjoying – at the interface of soil\, sound and transformation. \nThe focus is on exciting projects and insights into the world of Soil Music – a creative-scientific journey to living soil\, which secures our food\, is a central player in stabilizing our ecosystems and even fascinates as a body of sound. \nThe festival setting: 🕒 from 10.00h: symposium | from 12.00h: farm festival | from 17.00 concert(s) \nA day outside on the farm and inside in the lab – with music\, soil food for sustainable enjoyment\, compost sounds\, workshops\, talks\, sound walks\, installations and lots more. \nSave the date – further information and details on how to take part will follow shortly. I would be delighted if you could pass this on to people who are interested in this topic! \nWarm regards\nRalf Schmid \nP.S. Please get in touch if you would like to get involved. We are looking forward to small and big support in the coming weeks: Tackling\, organization\, communication\, crafts etc. \nFinancial support is also welcome: we will soon be setting up a crowdfunding campaign\, as the funding from the EU “Leader” line does not cover all costs. \n—\nRalf Schmid \npianist | composer | artivist \nSocial Media\nwww.pyanook.com\nwww.soilmusic.org\n+49 177 6414988
URL:https://fuereinanderhier.de/termin/soil-sound-festival-in-st-peter/
LOCATION:Steingrubenhof\, Haldenweg 4\, St. Peter\, Baden-Württemberg\, 79271\, Germany
CATEGORIES:Ereignis,Konzert,Workshop
END:VEVENT
END:VCALENDAR