BEGIN:VCALENDAR
VERSION:2.0
PRODID:-//Füreinander Hier e.V. - ECPv6.15.20//NONSGML v1.0//EN
CALSCALE:GREGORIAN
METHOD:PUBLISH
X-ORIGINAL-URL:https://fuereinanderhier.de
X-WR-CALDESC:Veranstaltungen für Füreinander Hier e.V.
REFRESH-INTERVAL;VALUE=DURATION:PT1H
X-Robots-Tag:noindex
X-PUBLISHED-TTL:PT1H
BEGIN:VTIMEZONE
TZID:Europe/Berlin
BEGIN:DAYLIGHT
TZOFFSETFROM:+0100
TZOFFSETTO:+0200
TZNAME:CEST
DTSTART:20240331T010000
END:DAYLIGHT
BEGIN:STANDARD
TZOFFSETFROM:+0200
TZOFFSETTO:+0100
TZNAME:CET
DTSTART:20241027T010000
END:STANDARD
BEGIN:DAYLIGHT
TZOFFSETFROM:+0100
TZOFFSETTO:+0200
TZNAME:CEST
DTSTART:20250330T010000
END:DAYLIGHT
BEGIN:STANDARD
TZOFFSETFROM:+0200
TZOFFSETTO:+0100
TZNAME:CET
DTSTART:20251026T010000
END:STANDARD
BEGIN:DAYLIGHT
TZOFFSETFROM:+0100
TZOFFSETTO:+0200
TZNAME:CEST
DTSTART:20260329T010000
END:DAYLIGHT
BEGIN:STANDARD
TZOFFSETFROM:+0200
TZOFFSETTO:+0100
TZNAME:CET
DTSTART:20261025T010000
END:STANDARD
END:VTIMEZONE
BEGIN:VEVENT
DTSTART;TZID=Europe/Berlin:20251004T090000
DTEND;TZID=Europe/Berlin:20251004T120000
DTSTAMP:20260422T111631
CREATED:20250828T071602Z
LAST-MODIFIED:20250828T074006Z
UID:905-1759568400-1759579200@fuereinanderhier.de
SUMMARY:Kochseminar - Pilze und Wildfrüchte vegan
DESCRIPTION:Im Oktober Sa. 4.10.2025 und Mo. 6.10.2025 \nDas Thema: Pilze und Wildfrüchte vegan \nDas Seminar findet im Dorfplatz bei Thaddäus und Petra Kürner statt\, Am Birkenrain 26 b\, 79271 St.Peter. \nAm Montag von 18.00 bis 21.00 Uhr\nAm Samstag von 9.00 Uhr bis 12.00 Uhr \nBei Seminaren mit Fleisch gibt es immer eine vegetarische oder vegane Alternative.  \nPreis für ein Seminar Euro 48.00 pro Person. \nEs kann immer ein Gast pro Teilnehmer teilnehmen. Preis 28.00 \nBei Kauf von 3 Seminaren ist der Preis pro Seminar und Person 45.00 Euro. \nDer Kurs ist vorab zu bezahlen. Bei Absagen bis 5 Tagen vor dem Seminar ist keine Gebühr fällig. Danach 25 % vom Kurs Preis. 75 % werden erstattet oder für einen anderen Kurs angerechnet. \nIch freue mich auf zahlreiche Teilnehmer.\nPro Kurs sind höchstens 8Teilnehmer möglich.\nDer Kurs findet ab 4 Teilnehmer statt. \nEuer Küchenmeister Josef Fehrenbach \nAnmeldungen bitte direkt an Josef:\nJosef Fehrenbach joseffehrenbach66@gmail.com
URL:https://fuereinanderhier.de/termin/kochseminar-pilze-und-wildfruechte-vegan/
LOCATION:Dorfplatz\, Am Birkenrain 26b\, St. Peter\, Baden-Württemberg\, 79271\, Germany
CATEGORIES:Kochseminar
ORGANIZER;CN="K%C3%BCchenmeister Josef Fehrenbach":MAILTO:joseffehrenbach66@gmail.com
END:VEVENT
BEGIN:VEVENT
DTSTART;TZID=Europe/Berlin:20251006T180000
DTEND;TZID=Europe/Berlin:20251006T210000
DTSTAMP:20260422T111631
CREATED:20250828T071900Z
LAST-MODIFIED:20250828T074000Z
UID:907-1759773600-1759784400@fuereinanderhier.de
SUMMARY:Kochseminar - Pilze und Wildfrüchte vegan
DESCRIPTION:Im Oktober Sa. 4.10.2025 und Mo. 6.10.2025 \nDas Thema: Pilze und Wildfrüchte vegan \nDas Seminar findet im Dorfplatz bei Thaddäus und Petra Kürner statt\, Am Birkenrain 26 b\, 79271 St.Peter. \nAm Montag von 18.00 bis 21.00 Uhr\nAm Samstag von 9.00 Uhr bis 12.00 Uhr \nBei Seminaren mit Fleisch gibt es immer eine vegetarische oder vegane Alternative.  \nPreis für ein Seminar Euro 48.00 pro Person. \nEs kann immer ein Gast pro Teilnehmer teilnehmen. Preis 28.00 \nBei Kauf von 3 Seminaren ist der Preis pro Seminar und Person 45.00 Euro. \nDer Kurs ist vorab zu bezahlen. Bei Absagen bis 5 Tagen vor dem Seminar ist keine Gebühr fällig. Danach 25 % vom Kurs Preis. 75 % werden erstattet oder für einen anderen Kurs angerechnet. \nIch freue mich auf zahlreiche Teilnehmer.\nPro Kurs sind höchstens 8Teilnehmer möglich.\nDer Kurs findet ab 4 Teilnehmer statt. \nEuer Küchenmeister Josef Fehrenbach \nAnmeldungen bitte direkt an Josef:\nJosef Fehrenbach joseffehrenbach66@gmail.com
URL:https://fuereinanderhier.de/termin/kochseminar-pilze-und-wildfruechte-vegan-2/
LOCATION:Dorfplatz\, Am Birkenrain 26b\, St. Peter\, Baden-Württemberg\, 79271\, Germany
CATEGORIES:Kochseminar
ORGANIZER;CN="K%C3%BCchenmeister Josef Fehrenbach":MAILTO:joseffehrenbach66@gmail.com
END:VEVENT
END:VCALENDAR