BEGIN:VCALENDAR
VERSION:2.0
PRODID:-//Füreinander Hier e.V. - ECPv6.15.20//NONSGML v1.0//EN
CALSCALE:GREGORIAN
METHOD:PUBLISH
X-ORIGINAL-URL:https://fuereinanderhier.de
X-WR-CALDESC:Veranstaltungen für Füreinander Hier e.V.
REFRESH-INTERVAL;VALUE=DURATION:PT1H
X-Robots-Tag:noindex
X-PUBLISHED-TTL:PT1H
BEGIN:VTIMEZONE
TZID:Europe/Berlin
BEGIN:DAYLIGHT
TZOFFSETFROM:+0100
TZOFFSETTO:+0200
TZNAME:CEST
DTSTART:20240331T010000
END:DAYLIGHT
BEGIN:STANDARD
TZOFFSETFROM:+0200
TZOFFSETTO:+0100
TZNAME:CET
DTSTART:20241027T010000
END:STANDARD
BEGIN:DAYLIGHT
TZOFFSETFROM:+0100
TZOFFSETTO:+0200
TZNAME:CEST
DTSTART:20250330T010000
END:DAYLIGHT
BEGIN:STANDARD
TZOFFSETFROM:+0200
TZOFFSETTO:+0100
TZNAME:CET
DTSTART:20251026T010000
END:STANDARD
BEGIN:DAYLIGHT
TZOFFSETFROM:+0100
TZOFFSETTO:+0200
TZNAME:CEST
DTSTART:20260329T010000
END:DAYLIGHT
BEGIN:STANDARD
TZOFFSETFROM:+0200
TZOFFSETTO:+0100
TZNAME:CET
DTSTART:20261025T010000
END:STANDARD
END:VTIMEZONE
BEGIN:VEVENT
DTSTART;TZID=Europe/Berlin:20251101T090000
DTEND;TZID=Europe/Berlin:20251101T120000
DTSTAMP:20260422T092751
CREATED:20250828T072547Z
LAST-MODIFIED:20250828T073950Z
UID:910-1761987600-1761998400@fuereinanderhier.de
SUMMARY:Kochseminar - Kürbis\, Beifuss und Gans
DESCRIPTION:Im November Sa. 1.11.2025 und Mo. 3.11.2025 \nDas Thema: Kürbis\, Beifuss und Gans \nDas Seminar findet im Dorfplatz bei Thaddäus und Petra Kürner statt\, Am Birkenrain 26 b\, 79271 St.Peter. \nAm Montag von 18.00 bis 21.00 Uhr\nAm Samstag von 9.00 Uhr bis 12.00 Uhr \nBei Seminaren mit Fleisch gibt es immer eine vegetarische oder vegane Alternative.  \nPreis für ein Seminar Euro 48.00 pro Person. \nEs kann immer ein Gast pro Teilnehmer teilnehmen. Preis 28.00 \nBei Kauf von 3 Seminaren ist der Preis pro Seminar und Person 45.00 Euro. \nDer Kurs ist vorab zu bezahlen. Bei Absagen bis 5 Tagen vor dem Seminar ist keine Gebühr fällig. Danach 25 % vom Kurs Preis. 75 % werden erstattet oder für einen anderen Kurs angerechnet. \nIch freue mich auf zahlreiche Teilnehmer.\nPro Kurs sind höchstens 8Teilnehmer möglich.\nDer Kurs findet ab 4 Teilnehmer statt. \nEuer Küchenmeister Josef Fehrenbach \nAnmeldungen bitte direkt an Josef:\nJosef Fehrenbach joseffehrenbach66@gmail.com
URL:https://fuereinanderhier.de/termin/kochseminar-kuerbis-beifuss-und-gans/
LOCATION:Dorfplatz\, Am Birkenrain 26b\, St. Peter\, Baden-Württemberg\, 79271\, Germany
CATEGORIES:Kochseminar
ORGANIZER;CN="K%C3%BCchenmeister Josef Fehrenbach":MAILTO:joseffehrenbach66@gmail.com
END:VEVENT
BEGIN:VEVENT
DTSTART;TZID=Europe/Berlin:20251103T180000
DTEND;TZID=Europe/Berlin:20251103T210000
DTSTAMP:20260422T092751
CREATED:20250828T072812Z
LAST-MODIFIED:20250828T073941Z
UID:912-1762192800-1762203600@fuereinanderhier.de
SUMMARY:Kochseminar - Kürbis\, Beifuss und Gans
DESCRIPTION:Im November Sa. 1.11.2025 und Mo. 3.11.2025 \nDas Thema: Kürbis\, Beifuss und Gans \nDas Seminar findet im Dorfplatz bei Thaddäus und Petra Kürner statt\, Am Birkenrain 26 b\, 79271 St.Peter. \nAm Montag von 18.00 bis 21.00 Uhr\nAm Samstag von 9.00 Uhr bis 12.00 Uhr \nBei Seminaren mit Fleisch gibt es immer eine vegetarische oder vegane Alternative.  \nPreis für ein Seminar Euro 48.00 pro Person. \nEs kann immer ein Gast pro Teilnehmer teilnehmen. Preis 28.00 \nBei Kauf von 3 Seminaren ist der Preis pro Seminar und Person 45.00 Euro. \nDer Kurs ist vorab zu bezahlen. Bei Absagen bis 5 Tagen vor dem Seminar ist keine Gebühr fällig. Danach 25 % vom Kurs Preis. 75 % werden erstattet oder für einen anderen Kurs angerechnet. \nIch freue mich auf zahlreiche Teilnehmer.\nPro Kurs sind höchstens 8Teilnehmer möglich.\nDer Kurs findet ab 4 Teilnehmer statt. \nEuer Küchenmeister Josef Fehrenbach \nAnmeldungen bitte direkt an Josef:\nJosef Fehrenbach joseffehrenbach66@gmail.com
URL:https://fuereinanderhier.de/termin/kochseminar-kuerbis-beifuss-und-gans-2/
LOCATION:Dorfplatz\, Am Birkenrain 26b\, St. Peter\, Baden-Württemberg\, 79271\, Germany
CATEGORIES:Kochseminar
ORGANIZER;CN="K%C3%BCchenmeister Josef Fehrenbach":MAILTO:joseffehrenbach66@gmail.com
END:VEVENT
BEGIN:VEVENT
DTSTART;TZID=Europe/Berlin:20251129T190000
DTEND;TZID=Europe/Berlin:20251129T210000
DTSTAMP:20260422T092751
CREATED:20251118T064205Z
LAST-MODIFIED:20251119T071124Z
UID:939-1764442800-1764450000@fuereinanderhier.de
SUMMARY:Sonst war es still - Filmabend mit Gesprächsrunde
DESCRIPTION:
URL:https://fuereinanderhier.de/termin/sonst-war-es-still-filmabend-mit-gespraechsrunde/
LOCATION:Bürgersaal\, Talvogtei-Scheune\, Talvogteistraße 2\, Kirchzarten\, Baden-Württemberg\, 79199\, Germany
CATEGORIES:Film
END:VEVENT
END:VCALENDAR