BEGIN:VCALENDAR
VERSION:2.0
PRODID:-//Füreinander Hier e.V. - ECPv6.15.20//NONSGML v1.0//EN
CALSCALE:GREGORIAN
METHOD:PUBLISH
X-ORIGINAL-URL:https://fuereinanderhier.de
X-WR-CALDESC:Veranstaltungen für Füreinander Hier e.V.
REFRESH-INTERVAL;VALUE=DURATION:PT1H
X-Robots-Tag:noindex
X-PUBLISHED-TTL:PT1H
BEGIN:VTIMEZONE
TZID:Europe/Berlin
BEGIN:DAYLIGHT
TZOFFSETFROM:+0100
TZOFFSETTO:+0200
TZNAME:CEST
DTSTART:20240331T010000
END:DAYLIGHT
BEGIN:STANDARD
TZOFFSETFROM:+0200
TZOFFSETTO:+0100
TZNAME:CET
DTSTART:20241027T010000
END:STANDARD
BEGIN:DAYLIGHT
TZOFFSETFROM:+0100
TZOFFSETTO:+0200
TZNAME:CEST
DTSTART:20250330T010000
END:DAYLIGHT
BEGIN:STANDARD
TZOFFSETFROM:+0200
TZOFFSETTO:+0100
TZNAME:CET
DTSTART:20251026T010000
END:STANDARD
BEGIN:DAYLIGHT
TZOFFSETFROM:+0100
TZOFFSETTO:+0200
TZNAME:CEST
DTSTART:20260329T010000
END:DAYLIGHT
BEGIN:STANDARD
TZOFFSETFROM:+0200
TZOFFSETTO:+0100
TZNAME:CET
DTSTART:20261025T010000
END:STANDARD
END:VTIMEZONE
BEGIN:VEVENT
DTSTART;TZID=Europe/Berlin:20251201T180000
DTEND;TZID=Europe/Berlin:20251201T210000
DTSTAMP:20260422T080251
CREATED:20250828T073223Z
LAST-MODIFIED:20250828T073931Z
UID:914-1764612000-1764622800@fuereinanderhier.de
SUMMARY:Kochseminar - Weihnachtsmenü
DESCRIPTION:Im Dezember Mo. 1.12.2025 und Sa. 6.12.2025 \nDas Thema: Weihnachtsmenü \nDas Seminar findet im Dorfplatz bei Thaddäus und Petra Kürner statt\, Am Birkenrain 26 b\, 79271 St.Peter. \nAm Montag von 18.00 bis 21.00 Uhr\nAm Samstag von 9.00 Uhr bis 12.00 Uhr \nBei Seminaren mit Fleisch gibt es immer eine vegetarische oder vegane Alternative.  \nPreis für ein Seminar Euro 48.00 pro Person. \nEs kann immer ein Gast pro Teilnehmer teilnehmen. Preis 28.00 \nBei Kauf von 3 Seminaren ist der Preis pro Seminar und Person 45.00 Euro. \nDer Kurs ist vorab zu bezahlen. Bei Absagen bis 5 Tagen vor dem Seminar ist keine Gebühr fällig. Danach 25 % vom Kurs Preis. 75 % werden erstattet oder für einen anderen Kurs angerechnet. \nIch freue mich auf zahlreiche Teilnehmer.\nPro Kurs sind höchstens 8Teilnehmer möglich.\nDer Kurs findet ab 4 Teilnehmer statt. \nEuer Küchenmeister Josef Fehrenbach \nAnmeldungen bitte direkt an Josef:\nJosef Fehrenbach joseffehrenbach66@gmail.com
URL:https://fuereinanderhier.de/termin/kochseminar-weihnachtsmenue/
LOCATION:Dorfplatz\, Am Birkenrain 26b\, St. Peter\, Baden-Württemberg\, 79271\, Germany
CATEGORIES:Kochseminar
ORGANIZER;CN="K%C3%BCchenmeister Josef Fehrenbach":MAILTO:joseffehrenbach66@gmail.com
END:VEVENT
BEGIN:VEVENT
DTSTART;TZID=Europe/Berlin:20251206T090000
DTEND;TZID=Europe/Berlin:20251206T120000
DTSTAMP:20260422T080251
CREATED:20250828T073505Z
LAST-MODIFIED:20250828T073926Z
UID:916-1765011600-1765022400@fuereinanderhier.de
SUMMARY:Kochseminar - Silvester
DESCRIPTION:Im Dezember Mo. 1.12.2025 und Sa. 6.12.2025 \nDas Thema: Silvester \nDas Seminar findet im Dorfplatz bei Thaddäus und Petra Kürner statt\, Am Birkenrain 26 b\, 79271 St.Peter. \nAm Montag von 18.00 bis 21.00 Uhr\nAm Samstag von 9.00 Uhr bis 12.00 Uhr \nBei Seminaren mit Fleisch gibt es immer eine vegetarische oder vegane Alternative.  \nPreis für ein Seminar Euro 48.00 pro Person. \nEs kann immer ein Gast pro Teilnehmer teilnehmen. Preis 28.00 \nBei Kauf von 3 Seminaren ist der Preis pro Seminar und Person 45.00 Euro. \nDer Kurs ist vorab zu bezahlen. Bei Absagen bis 5 Tagen vor dem Seminar ist keine Gebühr fällig. Danach 25 % vom Kurs Preis. 75 % werden erstattet oder für einen anderen Kurs angerechnet. \nIch freue mich auf zahlreiche Teilnehmer.\nPro Kurs sind höchstens 8Teilnehmer möglich.\nDer Kurs findet ab 4 Teilnehmer statt. \nEuer Küchenmeister Josef Fehrenbach \nAnmeldungen bitte direkt an Josef:\nJosef Fehrenbach joseffehrenbach66@gmail.com
URL:https://fuereinanderhier.de/termin/kochseminar-silvester/
LOCATION:Dorfplatz\, Am Birkenrain 26b\, St. Peter\, Baden-Württemberg\, 79271\, Germany
CATEGORIES:Kochseminar
ORGANIZER;CN="K%C3%BCchenmeister Josef Fehrenbach":MAILTO:joseffehrenbach66@gmail.com
END:VEVENT
BEGIN:VEVENT
DTSTART;TZID=Europe/Berlin:20251212T183000
DTEND;TZID=Europe/Berlin:20251212T210000
DTSTAMP:20260422T080251
CREATED:20251211T151621Z
LAST-MODIFIED:20251211T170150Z
UID:959-1765564200-1765573200@fuereinanderhier.de
SUMMARY:Herstellung von altägyptischem Räucher’konfekt’
DESCRIPTION:Mit himmlischen Düften aus 1000 und einer Nacht\n  \nEin Augen – und Nasenschmaus – (nicht nur) für die Weih(e)nächte!Leider nix zum Naschen\, aber trotzdem ein sinnliches Erlebnis\, ist die Verwendung von Räucherkugeln als Räucherwerk. Nach altägyptischen Rezept werden wir mit in Rotwein eingeweichten Wildbeeren\, edlen Harzen\, Wurzeln und duftenden Kräutern zusammen Räucherkonfekt herstellen.Diese können dann vorzugsweise auf Räucherstövchen oder auf Räucherkohle verduftet werden\, um die Duftbotschaften u.a. in Wohnräumen zu verbreiten und Richtung Himmel zu senden… \nKosten: 40\,- €/TN + MaterialkostenSeminarort: Denzlingen • Naturkindergarten ‚Aktion Lebensraum‘ (die genaue Wegbeschreibung wird dir nach deiner verbindlichen Anmeldung mitgeteilt) \nBitte mitbringen:• Hausschuhe• Schneidebrett & scharfes Messer / w.m. Wiegemesser• warmes Trinken & was zu Knabbern \n  \nEin adventlicher Gruß 🎄 aus dem Glottertal\nvon der ‚Pflanzenbotschafterin‘\nNicole Kaiser\n  \nTelefon: 07684-2770334 \nwww.pflanzenbotschaften.de
URL:https://fuereinanderhier.de/termin/herstellung-von-altaegyptischem-raeucherkonfekt/
LOCATION:Naturkindergarten ‚Aktion Lebensraum‘\, Denzlingen
CATEGORIES:Workshop
END:VEVENT
BEGIN:VEVENT
DTSTART;TZID=Europe/Berlin:20251213T193000
DTEND;TZID=Europe/Berlin:20251213T193000
DTSTAMP:20260422T080251
CREATED:20251211T162517Z
LAST-MODIFIED:20251211T162635Z
UID:1003-1765654200-1765654200@fuereinanderhier.de
SUMMARY:Gemeinsames Tanzen
DESCRIPTION:Liebe Tanzbegeisterte\, \ndas nächste Tanzen wird am Samstag\, 13. Dezember 2025 um 19.30 Uhr (Ankommen: 19.15 Uhr) in meinem Seminarraum in Windenreute sein.\nEs werden zwei Wellen je 75 Minuten getanzt. Wem dies zu viel ist\, kann gerne nach der ersten Welle aufhören. \nNach dem Tanzen ab ca. 22.15 Uhr können wir gerne noch am runden Tisch zämme hocke. Könnt gerne noch was Biomäßiges zum Knabbern oder Trinken mitbringen. \nTeilt mir bitte vorher mit\, wenn ihr kommen möchtet. Ihr könnt gerne Ersatzkleidung mitbringen\, eine Dusche ist in der Nähe des Raumes. \nAm besten das Auto direkt vor meiner Eingangstür parken (3 Stellplätze). \nSeid herzlich gegrüßt \nReinhard Gräfe \nTel. 07641-9680861 \nMobil: 0151-10734822
URL:https://fuereinanderhier.de/termin/gemeinsames-tanzen/
LOCATION:Seminarraum Windenreute\, Im Obstgarten 12\, Emmendingen-Windenreute\, 79312
CATEGORIES:Ereignis,Treffen
END:VEVENT
BEGIN:VEVENT
DTSTART;TZID=Europe/Berlin:20251221T100000
DTEND;TZID=Europe/Berlin:20251221T180000
DTSTAMP:20260422T080251
CREATED:20251211T155854Z
LAST-MODIFIED:20251211T165213Z
UID:969-1766311200-1766340000@fuereinanderhier.de
SUMMARY:'Himmlische Düfte’ und Räucherbündel herstellen für die Rau(c)hnächte
DESCRIPTION:Gönn dir eine Auszeit – in all dem vorweihnachtlichen Trubel…Bei einem Tag mit Räucherkunde & Wahrnehmungsübungen und Räucherbündel herstellen für die ‚Rau(c)hnächte‘ in der gemütlichen Atmosphäre einer Jurte! \n \nWintersonnwende – die Ankündigung der Rau(c)hnächte…Das Räuchern ist eine der ältesten Traditionen der Menschen. In aller Welt wurden (und werden heute immer noch) feinstes Räucherwerk zum Verglimmen gebracht\, um das ‚Wesen‘ der Heilpflanzen frei zu setzen und ihre ‚Botschaften an den Himmel‘ zu verströmen. Der Räucherduft kann uns in verschiedenen Lebenssituationen zur Unterstützung dienen\, da er unser limbisches System anregt und somit einen direkten Einfluss auf unser Befinden hat. Gebet & Meditation werden dank der Pflanzendüfte verstärkt und unsere Wahrnehmungsfähigkeit geweitet. Sie stärken u.a. auch unser Immunsystem\, wirken keimtötend und desinfizierend auf den Umraum. So wurden schon zu Pestzeiten Krankenzimmer & Kranke ausgeräuchert\, um sie von den schadhaften\, negativen Kräften zu befreien… \nDie Herkunft der Tradition des Räucherns & der Räucherpflanzen\, sowie die Bedeutung der ‚Rauhnächte‘\, die mit der ‚Wintersonnwende‘ angekündigt werden\, wollen wir zusammen beleuchten. Ich werde euch – mit Hilfe des Räucherns der getrockneten Kräuter\, Baumharze und Hölzer – auf euren individuellen Phantasiereisen begleiten\, die die Wirkung der jeweiligen Düfte eindrücklich erfahrbar machen. \n \nNach der intensiven Beschäftigung mit den Heilbotschaften der einzelnen Pflanzen\, kannst du dir – aus den von mir mitgebrachten getrockneten Heilkräutern – dein eigenes Räucherbündel für die Rau(c)hnächte anfertigen\, das zur Reinigung deiner Wohnung und als Schutzräucherung für’s neue Jahr dienen darf. \n  \nBitte Folgendes mitbringen:\n– Hausschuhe oder dicke Socken\n– Kuscheldecke \n– Yogamatte\, Isomatte oder Fell – weitere Sitzmöglichkeiten sind vorhanden!\n– Wer hat: Gartenschere & Schere & fette Stopfnadeln (mit extradickem Öhr!) für die Räucherbündel\n– Wenn möglich: eine Thermoskanne mit heißem Getränk\n– Bitte genug zu Essen mitbringen!\n\n– Gerne könnt ihr auch Weihnachtsgebäck oder sonst was Leckeres zum Teilen mitbringen! \n\nKursort: Freiburg/ Zähringen (die Wegbeschreibung wird dir nach deiner verbindlichen Anmeldung mitgeteilt)Der Kurs findet dieses Mal in einer wunderschönen\, traditionellen kirgisischen Jurte in einem Privatgarten statt. Dort können wir es uns um den wärmenden Holzofen gemütlich machen.Für die Mittagszeit (ca. 1 Std.) bitte selbst was zum Essen mitbringen. Es wird eine deftige Gemüsesuppe & Brot geben und heissen Kräutertee. Wer mag kann Kaffee & Milch mitbringen. \n\n\nKosten: 95\,- (ab 7 TN ) / 110\,- € (bei mind. 4 TN) inkl. Materialkosten!! + 5\,- € für Suppe & Brot \n\n\nBitte beachten:\nMit max. 11 TN ist die Teilnehmerzahl begrenzt!\n• Wenn du gerne die Suppe zubereiten möchtest\, erhältst du die 5\,- € /Pers. für deinen Einsatz! •\n\n\n\n  \n\n\nEin adventlicher Gruß 🎄 aus dem Glottertal\n\n\nvon der ‚Pflanzenbotschafterin‘\nNicole Kaiser\n  \nTelefon: 07684-2770334 \nwww.pflanzenbotschaften.de
URL:https://fuereinanderhier.de/termin/himmlische-duefte-und-raeucherbuendel-herstellen-fuer-die-rauchnaechte/
LOCATION:Freiburg/ Zähringen
CATEGORIES:Workshop
END:VEVENT
END:VCALENDAR