BEGIN:VCALENDAR
VERSION:2.0
PRODID:-//Füreinander Hier e.V. - ECPv6.15.20//NONSGML v1.0//EN
CALSCALE:GREGORIAN
METHOD:PUBLISH
X-ORIGINAL-URL:https://fuereinanderhier.de
X-WR-CALDESC:Veranstaltungen für Füreinander Hier e.V.
REFRESH-INTERVAL;VALUE=DURATION:PT1H
X-Robots-Tag:noindex
X-PUBLISHED-TTL:PT1H
BEGIN:VTIMEZONE
TZID:Europe/Berlin
BEGIN:DAYLIGHT
TZOFFSETFROM:+0100
TZOFFSETTO:+0200
TZNAME:CEST
DTSTART:20250330T010000
END:DAYLIGHT
BEGIN:STANDARD
TZOFFSETFROM:+0200
TZOFFSETTO:+0100
TZNAME:CET
DTSTART:20251026T010000
END:STANDARD
BEGIN:DAYLIGHT
TZOFFSETFROM:+0100
TZOFFSETTO:+0200
TZNAME:CEST
DTSTART:20260329T010000
END:DAYLIGHT
BEGIN:STANDARD
TZOFFSETFROM:+0200
TZOFFSETTO:+0100
TZNAME:CET
DTSTART:20261025T010000
END:STANDARD
BEGIN:DAYLIGHT
TZOFFSETFROM:+0100
TZOFFSETTO:+0200
TZNAME:CEST
DTSTART:20270328T010000
END:DAYLIGHT
BEGIN:STANDARD
TZOFFSETFROM:+0200
TZOFFSETTO:+0100
TZNAME:CET
DTSTART:20271031T010000
END:STANDARD
END:VTIMEZONE
BEGIN:VEVENT
DTSTART;TZID=Europe/Berlin:20260104T170000
DTEND;TZID=Europe/Berlin:20260104T170000
DTSTAMP:20260422T063914
CREATED:20251229T105923Z
LAST-MODIFIED:20251229T112933Z
UID:1097-1767546000-1767546000@fuereinanderhier.de
SUMMARY:Irische Weihnachten in Emmendingen
DESCRIPTION:Harfenkonzert von Andy Lang\n  \nIn über 1500 Konzerten im Bundesgebiet und Europa hat sich Andy Lang einen großen Fankreis erspielt. \nFür seine qualitativ hochwertige künstlerische Arbeit hat ihn sein Landkreis Bayreuth mit dem Hauptkulturpreis 2007 ausgezeichnet. \nAm wichtigsten ist dem Künstler jedoch sein Publikum: „Das größte Geheimnis meiner Musik sind die Menschen\, die sie hören. Aus ihren Hoffnungen\, Sehnsüchten und Träumen erfährt meine Klangwelt Tiefe und Raum.“ \nEine intensive Auseinandersetzung zwischen Klang und Raum ist dem Künstler wichtig: So konzertiert er in gotischen Kirchen\, romantischen Schlössern\, Tropfsteinhöhlen und Naturbühnen.
URL:https://fuereinanderhier.de/termin/irische-weihnachten-in-emmendingen/
LOCATION:Katholische Kirchengemeinde St. Bonifatius\, Markgraf-Jacob-Allee 2\, Emmendingen\, 79312
CATEGORIES:Konzert
END:VEVENT
BEGIN:VEVENT
DTSTART;TZID=Europe/Berlin:20260105T190000
DTEND;TZID=Europe/Berlin:20260105T190000
DTSTAMP:20260422T063914
CREATED:20251229T112238Z
LAST-MODIFIED:20251229T112815Z
UID:1110-1767639600-1767639600@fuereinanderhier.de
SUMMARY:celtic christmas in Freiburg
DESCRIPTION:Eine adventliche Reise durch Irland und Schottland mit Andy Lang\n  \n\n\nDer Geist der Weihnacht verdichtet sich und wird Klang\, wenn der Barde und Harfenist Andy Lang eine intime Auswahl keltischer Weihnachtslieder für sein Publikum zelebriert. \n\n\nStille\, Zeit zum Luftholen im Trubel der Weihnachtszeit und ein Gespür für das Wesentliche vermittelt diese romantische Konzerterfahrung mit Andy Lang.
URL:https://fuereinanderhier.de/termin/celtic-christmas-in-freiburg/
LOCATION:Die Evangelische Auferstehungskirche\, Kapplerstraße 26\, Freiburg\, 79117
CATEGORIES:Konzert
END:VEVENT
BEGIN:VEVENT
DTSTART;TZID=Europe/Berlin:20260111T170000
DTEND;TZID=Europe/Berlin:20260111T183000
DTSTAMP:20260422T063914
CREATED:20251229T114330Z
LAST-MODIFIED:20251229T114352Z
UID:1121-1768150800-1768156200@fuereinanderhier.de
SUMMARY:Gong-Konzert
DESCRIPTION:
URL:https://fuereinanderhier.de/termin/gong-konzert/
LOCATION:Evangelische Kirchengemeinde Willstätt\, Hauptstraße 37\, Willstätt\, 77731
CATEGORIES:Konzert
ATTACH;FMTTYPE=image/png:https://fuereinanderhier.de/wp-content/uploads/Gong_Konzert.png
END:VEVENT
BEGIN:VEVENT
DTSTART;TZID=Europe/Berlin:20260127T193000
DTEND;TZID=Europe/Berlin:20260127T193000
DTSTAMP:20260422T063914
CREATED:20251229T120518Z
LAST-MODIFIED:20251229T120614Z
UID:1127-1769542200-1769542200@fuereinanderhier.de
SUMMARY:Musikalische Inszenierung
DESCRIPTION:
URL:https://fuereinanderhier.de/termin/musikalische-inszenierung/
LOCATION:Bürgerhaus am Seepark\, Gerhart-Hauptmann-Straße 1\, Freiburg\, 79110
CATEGORIES:Konzert,Lesung
ATTACH;FMTTYPE=image/png:https://fuereinanderhier.de/wp-content/uploads/Oscar_Javelot_Licht.png
END:VEVENT
BEGIN:VEVENT
DTSTART;TZID=Europe/Berlin:20260129T140000
DTEND;TZID=Europe/Berlin:20260129T160000
DTSTAMP:20260422T063914
CREATED:20260122T154824Z
LAST-MODIFIED:20260122T154935Z
UID:1141-1769695200-1769702400@fuereinanderhier.de
SUMMARY:Seniorentreff im Cafe Dora
DESCRIPTION:
URL:https://fuereinanderhier.de/termin/seniorentreff-im-cafe-dora/
LOCATION:Cafe Dora\, Bertoldsplatz 2\, St. Peter\, 79271
CATEGORIES:Treffen
END:VEVENT
END:VCALENDAR