BEGIN:VCALENDAR
VERSION:2.0
PRODID:-//Füreinander Hier e.V. - ECPv6.15.20//NONSGML v1.0//EN
CALSCALE:GREGORIAN
METHOD:PUBLISH
X-WR-CALNAME:Füreinander Hier e.V.
X-ORIGINAL-URL:https://fuereinanderhier.de
X-WR-CALDESC:Veranstaltungen für Füreinander Hier e.V.
REFRESH-INTERVAL;VALUE=DURATION:PT1H
X-Robots-Tag:noindex
X-PUBLISHED-TTL:PT1H
BEGIN:VTIMEZONE
TZID:Europe/Berlin
BEGIN:DAYLIGHT
TZOFFSETFROM:+0100
TZOFFSETTO:+0200
TZNAME:CEST
DTSTART:20250330T010000
END:DAYLIGHT
BEGIN:STANDARD
TZOFFSETFROM:+0200
TZOFFSETTO:+0100
TZNAME:CET
DTSTART:20251026T010000
END:STANDARD
BEGIN:DAYLIGHT
TZOFFSETFROM:+0100
TZOFFSETTO:+0200
TZNAME:CEST
DTSTART:20260329T010000
END:DAYLIGHT
BEGIN:STANDARD
TZOFFSETFROM:+0200
TZOFFSETTO:+0100
TZNAME:CET
DTSTART:20261025T010000
END:STANDARD
BEGIN:DAYLIGHT
TZOFFSETFROM:+0100
TZOFFSETTO:+0200
TZNAME:CEST
DTSTART:20270328T010000
END:DAYLIGHT
BEGIN:STANDARD
TZOFFSETFROM:+0200
TZOFFSETTO:+0100
TZNAME:CET
DTSTART:20271031T010000
END:STANDARD
END:VTIMEZONE
BEGIN:VEVENT
DTSTART;TZID=Europe/Berlin:20260201T100000
DTEND;TZID=Europe/Berlin:20260201T180000
DTSTAMP:20260422T050540
CREATED:20260122T161355Z
LAST-MODIFIED:20260122T161405Z
UID:1155-1769940000-1769968800@fuereinanderhier.de
SUMMARY:Floating-Workshop
DESCRIPTION:
URL:https://fuereinanderhier.de/termin/floating-workshop/
LOCATION:Praxisgemeinschaft im Kornhaus\, Am Münsterplatz 11\, Freiburg\, 79098
CATEGORIES:Workshop
END:VEVENT
BEGIN:VEVENT
DTSTART;TZID=Europe/Berlin:20260202T190000
DTEND;TZID=Europe/Berlin:20260202T190000
DTSTAMP:20260422T050540
CREATED:20260128T133221Z
LAST-MODIFIED:20260128T133359Z
UID:1179-1770058800-1770058800@fuereinanderhier.de
SUMMARY:Das Erwachen des Lebens
DESCRIPTION:Maria Lichtmess oder Imbolc\, das Fest unserer Vorfahren. \nWir möchten den beiden Festen nachspüren\, die Bräuche\, die Hoffnungen erkunden und die Zuversicht\, die in diesen Festen liegt mit in unseren Alltag nehmen. Zu einem Feuer\, bei gutem Wetter draußen\, sonst drinnen am Ofen\, an dem wir das Erwachen des Lichts feiern\, laden wir am 2.2.2026 um 19.00 Uhr an den Birkenrain 26b herzlich ein. \nWir bitten um eine kurze Anmeldung unter Tel.: 07660/446 wegen der Planung.
URL:https://fuereinanderhier.de/termin/das-erwachen-des-lebens/
LOCATION:Dorfplatz\, Am Birkenrain 26b\, St. Peter\, Baden-Württemberg\, 79271\, Germany
END:VEVENT
BEGIN:VEVENT
DTSTART;TZID=Europe/Berlin:20260203T190000
DTEND;TZID=Europe/Berlin:20260203T213000
DTSTAMP:20260422T050540
CREATED:20260122T155914Z
LAST-MODIFIED:20260122T155926Z
UID:1146-1770145200-1770154200@fuereinanderhier.de
SUMMARY:Hausapotheke mit Wild- und Heilpflanzen
DESCRIPTION:
URL:https://fuereinanderhier.de/termin/hausapotheke-mit-wild-und-heilpflanzen/
LOCATION:Andrea und Ralph Drewski\, Lettenweg 27\, Freiburg\, 79111
CATEGORIES:Workshop
END:VEVENT
BEGIN:VEVENT
DTSTART;TZID=Europe/Berlin:20260211T183000
DTEND;TZID=Europe/Berlin:20260211T183000
DTSTAMP:20260422T050540
CREATED:20260122T154058Z
LAST-MODIFIED:20260206T221429Z
UID:1137-1770834600-1770834600@fuereinanderhier.de
SUMMARY:Näh- und Handarbeitstreff mit Katharina
DESCRIPTION:Für alle Näh- und Handarbeitsbegeisterten\n  \n \nEs wird langsam wieder später dunkel! Aber die Abende sind noch wunderbar zum Zusammensitzen\, an den eigenen Projekten arbeiten – nähen\, stricken\, flicken oder basteln. Bringt mit woran Ihr Freude habt und vielleicht ab und zu eine dritte Hand gebrauchen könnt. Ich werde wieder Tee kochen.\nDer Handarbeitsabend findet am Mittwoch\, den 11.2. ab 18:30 Uhr und am Montag\, den 23.2. ab 18:30 Uhr statt. \nIch freue mich auf Euch! Ihr dürft mir gerne schreiben\, wenn Ihr kommen könnt: beckingk@posteo.de\nKatharina \n(Das Bild ist von pixabay\, herzlichen Dank an die Fotografin.)
URL:https://fuereinanderhier.de/termin/naehtreff-mit-katharina/
LOCATION:Dorfplatz\, Am Birkenrain 26b\, St. Peter\, Baden-Württemberg\, 79271\, Germany
CATEGORIES:Treffen
END:VEVENT
BEGIN:VEVENT
DTSTART;TZID=Europe/Berlin:20260223T183000
DTEND;TZID=Europe/Berlin:20260223T183000
DTSTAMP:20260422T050540
CREATED:20260206T221231Z
LAST-MODIFIED:20260206T221352Z
UID:1186-1771871400-1771871400@fuereinanderhier.de
SUMMARY:Näh- und Handarbeitstreff mit Katharina
DESCRIPTION:Für alle Näh- und Handarbeitsbegeisterten\n  \n \nEs wird langsam wieder später dunkel! Aber die Abende sind noch wunderbar zum Zusammensitzen\, an den eigenen Projekten arbeiten – nähen\, stricken\, flicken oder basteln. Bringt mit woran Ihr Freude habt und vielleicht ab und zu eine dritte Hand gebrauchen könnt. Ich werde wieder Tee kochen.\nDer Handarbeitsabend findet am Montag\, den 23.2. ab 18:30 Uhr statt. \nIch freue mich auf Euch! Ihr dürft mir gerne schreiben\, wenn Ihr kommen könnt: beckingk@posteo.de\nKatharina \n(Das Bild ist von pixabay\, herzlichen Dank an die Fotografin.)
URL:https://fuereinanderhier.de/termin/naeh-und-handarbeitsabend/
LOCATION:Dorfplatz\, Am Birkenrain 26b\, St. Peter\, Baden-Württemberg\, 79271\, Germany
CATEGORIES:Treffen
END:VEVENT
BEGIN:VEVENT
DTSTART;TZID=Europe/Berlin:20260224T120000
DTEND;TZID=Europe/Berlin:20260224T120000
DTSTAMP:20260422T050540
CREATED:20260212T173354Z
LAST-MODIFIED:20260220T123218Z
UID:1197-1771934400-1771934400@fuereinanderhier.de
SUMMARY:Seniorenmittagessen im Hotel Sonne
DESCRIPTION: 
URL:https://fuereinanderhier.de/termin/seniorenmittagessen-im-hotel-sonne/
LOCATION:Hotel-Restaurant Zur Sonne\, Zähringer Str. 2\, St. Peter\, 79271
CATEGORIES:Ereignis,Treffen
END:VEVENT
BEGIN:VEVENT
DTSTART;TZID=Europe/Berlin:20260227T160000
DTEND;TZID=Europe/Berlin:20260227T190000
DTSTAMP:20260422T050540
CREATED:20260224T145955Z
LAST-MODIFIED:20260224T150007Z
UID:1216-1772208000-1772218800@fuereinanderhier.de
SUMMARY:Kräuter-Seminar
DESCRIPTION:Der Frühling ist da: Bärlauch\, Scharbockskraut und Löwenzahn: Erkennen\, Sammeln\, Heilsam\, Lecker und Gesund. \nKräuter – Seminar mit Küchenmeister Josef Fehrenbach\nam Freitag\, den 27.2.26 und den 27.03.26\nvon 16.00 Uhr – 19.00 Uhr\nAm Birkenrain 26 b in 79271 St. Peter\nPreis 38€ \nAnmeldungen bei Josef Fehrenbach:\nMail: joseffehrenbach66@gmail.com oder telefonisch 0176-24866844
URL:https://fuereinanderhier.de/termin/kraeuter-seminar/
LOCATION:Dorfplatz\, Am Birkenrain 26b\, St. Peter\, Baden-Württemberg\, 79271\, Germany
CATEGORIES:Workshop
END:VEVENT
END:VCALENDAR